BEGIN:VCALENDAR
VERSION:2.0
PRODID:-//DEC Youth Ministry - ECPv6.0.9//NONSGML v1.0//EN
CALSCALE:GREGORIAN
METHOD:PUBLISH
X-WR-CALNAME:DEC Youth Ministry
X-ORIGINAL-URL:https://nextgen.dec4u.org
X-WR-CALDESC:Events for DEC Youth Ministry
REFRESH-INTERVAL;VALUE=DURATION:PT1H
X-Robots-Tag:noindex
X-PUBLISHED-TTL:PT1H
BEGIN:VTIMEZONE
TZID:America/Los_Angeles
BEGIN:DAYLIGHT
TZOFFSETFROM:-0800
TZOFFSETTO:-0700
TZNAME:PDT
DTSTART:20220313T100000
END:DAYLIGHT
BEGIN:STANDARD
TZOFFSETFROM:-0700
TZOFFSETTO:-0800
TZNAME:PST
DTSTART:20221106T090000
END:STANDARD
BEGIN:DAYLIGHT
TZOFFSETFROM:-0800
TZOFFSETTO:-0700
TZNAME:PDT
DTSTART:20230312T100000
END:DAYLIGHT
BEGIN:STANDARD
TZOFFSETFROM:-0700
TZOFFSETTO:-0800
TZNAME:PST
DTSTART:20231105T090000
END:STANDARD
END:VTIMEZONE
BEGIN:VEVENT
DTSTART;TZID=America/Los_Angeles:20220731T090000
DTEND;TZID=America/Los_Angeles:20220731T130000
DTSTAMP:20260420T203450
CREATED:20230222T231907Z
LAST-MODIFIED:20230222T234829Z
UID:10002776-1659258000-1659272400@nextgen.dec4u.org
SUMMARY:Children Sunday
DESCRIPTION:DEC Children (K-5TH) are welcome to join us on Sunday at 9:00 AM / 11:30 AM for in-person worship in Fellowship Hall.
URL:https://nextgen.dec4u.org/event/toddlers-sunday-worship/2022-07-31/
LOCATION:Dynamic Evangelism Church\, 19360 Colima Rd\, Rowland Heights\, CA\, 91748\, United States
CATEGORIES:Children
END:VEVENT
BEGIN:VEVENT
DTSTART;TZID=America/Los_Angeles:20220807T090000
DTEND;TZID=America/Los_Angeles:20220807T130000
DTSTAMP:20260420T203450
CREATED:20230222T231907Z
LAST-MODIFIED:20230222T234829Z
UID:10002777-1659862800-1659877200@nextgen.dec4u.org
SUMMARY:Children Sunday
DESCRIPTION:DEC Children (K-5TH) are welcome to join us on Sunday at 9:00 AM / 11:30 AM for in-person worship in Fellowship Hall.
URL:https://nextgen.dec4u.org/event/toddlers-sunday-worship/2022-08-07/
LOCATION:Dynamic Evangelism Church\, 19360 Colima Rd\, Rowland Heights\, CA\, 91748\, United States
CATEGORIES:Children
END:VEVENT
BEGIN:VEVENT
DTSTART;TZID=America/Los_Angeles:20220814T090000
DTEND;TZID=America/Los_Angeles:20220814T130000
DTSTAMP:20260420T203450
CREATED:20230222T231907Z
LAST-MODIFIED:20230222T234829Z
UID:10002778-1660467600-1660482000@nextgen.dec4u.org
SUMMARY:Children Sunday
DESCRIPTION:DEC Children (K-5TH) are welcome to join us on Sunday at 9:00 AM / 11:30 AM for in-person worship in Fellowship Hall.
URL:https://nextgen.dec4u.org/event/toddlers-sunday-worship/2022-08-14/
LOCATION:Dynamic Evangelism Church\, 19360 Colima Rd\, Rowland Heights\, CA\, 91748\, United States
CATEGORIES:Children
END:VEVENT
BEGIN:VEVENT
DTSTART;TZID=America/Los_Angeles:20220821T090000
DTEND;TZID=America/Los_Angeles:20220821T130000
DTSTAMP:20260420T203450
CREATED:20230222T231907Z
LAST-MODIFIED:20230222T234829Z
UID:10002779-1661072400-1661086800@nextgen.dec4u.org
SUMMARY:Children Sunday
DESCRIPTION:DEC Children (K-5TH) are welcome to join us on Sunday at 9:00 AM / 11:30 AM for in-person worship in Fellowship Hall.
URL:https://nextgen.dec4u.org/event/toddlers-sunday-worship/2022-08-21/
LOCATION:Dynamic Evangelism Church\, 19360 Colima Rd\, Rowland Heights\, CA\, 91748\, United States
CATEGORIES:Children
END:VEVENT
BEGIN:VEVENT
DTSTART;TZID=America/Los_Angeles:20220828T090000
DTEND;TZID=America/Los_Angeles:20220828T130000
DTSTAMP:20260420T203450
CREATED:20230222T231907Z
LAST-MODIFIED:20230222T234829Z
UID:10002780-1661677200-1661691600@nextgen.dec4u.org
SUMMARY:Children Sunday
DESCRIPTION:DEC Children (K-5TH) are welcome to join us on Sunday at 9:00 AM / 11:30 AM for in-person worship in Fellowship Hall.
URL:https://nextgen.dec4u.org/event/toddlers-sunday-worship/2022-08-28/
LOCATION:Dynamic Evangelism Church\, 19360 Colima Rd\, Rowland Heights\, CA\, 91748\, United States
CATEGORIES:Children
END:VEVENT
BEGIN:VEVENT
DTSTART;TZID=America/Los_Angeles:20220904T090000
DTEND;TZID=America/Los_Angeles:20220904T130000
DTSTAMP:20260420T203450
CREATED:20230222T231907Z
LAST-MODIFIED:20230222T234829Z
UID:10002781-1662282000-1662296400@nextgen.dec4u.org
SUMMARY:Children Sunday
DESCRIPTION:DEC Children (K-5TH) are welcome to join us on Sunday at 9:00 AM / 11:30 AM for in-person worship in Fellowship Hall.
URL:https://nextgen.dec4u.org/event/toddlers-sunday-worship/2022-09-04/
LOCATION:Dynamic Evangelism Church\, 19360 Colima Rd\, Rowland Heights\, CA\, 91748\, United States
CATEGORIES:Children
END:VEVENT
BEGIN:VEVENT
DTSTART;TZID=America/Los_Angeles:20220911T090000
DTEND;TZID=America/Los_Angeles:20220911T130000
DTSTAMP:20260420T203450
CREATED:20230222T231907Z
LAST-MODIFIED:20230222T234829Z
UID:10002782-1662886800-1662901200@nextgen.dec4u.org
SUMMARY:Children Sunday
DESCRIPTION:DEC Children (K-5TH) are welcome to join us on Sunday at 9:00 AM / 11:30 AM for in-person worship in Fellowship Hall.
URL:https://nextgen.dec4u.org/event/toddlers-sunday-worship/2022-09-11/
LOCATION:Dynamic Evangelism Church\, 19360 Colima Rd\, Rowland Heights\, CA\, 91748\, United States
CATEGORIES:Children
END:VEVENT
BEGIN:VEVENT
DTSTART;TZID=America/Los_Angeles:20220918T090000
DTEND;TZID=America/Los_Angeles:20220918T130000
DTSTAMP:20260420T203450
CREATED:20230222T231907Z
LAST-MODIFIED:20230222T234829Z
UID:10002783-1663491600-1663506000@nextgen.dec4u.org
SUMMARY:Children Sunday
DESCRIPTION:DEC Children (K-5TH) are welcome to join us on Sunday at 9:00 AM / 11:30 AM for in-person worship in Fellowship Hall.
URL:https://nextgen.dec4u.org/event/toddlers-sunday-worship/2022-09-18/
LOCATION:Dynamic Evangelism Church\, 19360 Colima Rd\, Rowland Heights\, CA\, 91748\, United States
CATEGORIES:Children
END:VEVENT
BEGIN:VEVENT
DTSTART;TZID=America/Los_Angeles:20220925T090000
DTEND;TZID=America/Los_Angeles:20220925T130000
DTSTAMP:20260420T203450
CREATED:20230222T231907Z
LAST-MODIFIED:20230222T234829Z
UID:10002784-1664096400-1664110800@nextgen.dec4u.org
SUMMARY:Children Sunday
DESCRIPTION:DEC Children (K-5TH) are welcome to join us on Sunday at 9:00 AM / 11:30 AM for in-person worship in Fellowship Hall.
URL:https://nextgen.dec4u.org/event/toddlers-sunday-worship/2022-09-25/
LOCATION:Dynamic Evangelism Church\, 19360 Colima Rd\, Rowland Heights\, CA\, 91748\, United States
CATEGORIES:Children
END:VEVENT
BEGIN:VEVENT
DTSTART;TZID=America/Los_Angeles:20221002T090000
DTEND;TZID=America/Los_Angeles:20221002T130000
DTSTAMP:20260420T203450
CREATED:20230222T231907Z
LAST-MODIFIED:20230222T234829Z
UID:10002785-1664701200-1664715600@nextgen.dec4u.org
SUMMARY:Children Sunday
DESCRIPTION:DEC Children (K-5TH) are welcome to join us on Sunday at 9:00 AM / 11:30 AM for in-person worship in Fellowship Hall.
URL:https://nextgen.dec4u.org/event/toddlers-sunday-worship/2022-10-02/
LOCATION:Dynamic Evangelism Church\, 19360 Colima Rd\, Rowland Heights\, CA\, 91748\, United States
CATEGORIES:Children
END:VEVENT
BEGIN:VEVENT
DTSTART;TZID=America/Los_Angeles:20221009T090000
DTEND;TZID=America/Los_Angeles:20221009T130000
DTSTAMP:20260420T203450
CREATED:20230222T231907Z
LAST-MODIFIED:20230222T234829Z
UID:10002786-1665306000-1665320400@nextgen.dec4u.org
SUMMARY:Children Sunday
DESCRIPTION:DEC Children (K-5TH) are welcome to join us on Sunday at 9:00 AM / 11:30 AM for in-person worship in Fellowship Hall.
URL:https://nextgen.dec4u.org/event/toddlers-sunday-worship/2022-10-09/
LOCATION:Dynamic Evangelism Church\, 19360 Colima Rd\, Rowland Heights\, CA\, 91748\, United States
CATEGORIES:Children
END:VEVENT
BEGIN:VEVENT
DTSTART;TZID=America/Los_Angeles:20221016T090000
DTEND;TZID=America/Los_Angeles:20221016T130000
DTSTAMP:20260420T203450
CREATED:20230222T231907Z
LAST-MODIFIED:20230222T234829Z
UID:10002787-1665910800-1665925200@nextgen.dec4u.org
SUMMARY:Children Sunday
DESCRIPTION:DEC Children (K-5TH) are welcome to join us on Sunday at 9:00 AM / 11:30 AM for in-person worship in Fellowship Hall.
URL:https://nextgen.dec4u.org/event/toddlers-sunday-worship/2022-10-16/
LOCATION:Dynamic Evangelism Church\, 19360 Colima Rd\, Rowland Heights\, CA\, 91748\, United States
CATEGORIES:Children
END:VEVENT
BEGIN:VEVENT
DTSTART;TZID=America/Los_Angeles:20221023T090000
DTEND;TZID=America/Los_Angeles:20221023T130000
DTSTAMP:20260420T203450
CREATED:20230222T231907Z
LAST-MODIFIED:20230222T234829Z
UID:10002788-1666515600-1666530000@nextgen.dec4u.org
SUMMARY:Children Sunday
DESCRIPTION:DEC Children (K-5TH) are welcome to join us on Sunday at 9:00 AM / 11:30 AM for in-person worship in Fellowship Hall.
URL:https://nextgen.dec4u.org/event/toddlers-sunday-worship/2022-10-23/
LOCATION:Dynamic Evangelism Church\, 19360 Colima Rd\, Rowland Heights\, CA\, 91748\, United States
CATEGORIES:Children
END:VEVENT
BEGIN:VEVENT
DTSTART;TZID=America/Los_Angeles:20221030T090000
DTEND;TZID=America/Los_Angeles:20221030T130000
DTSTAMP:20260420T203450
CREATED:20230222T231907Z
LAST-MODIFIED:20230222T234829Z
UID:10002789-1667120400-1667134800@nextgen.dec4u.org
SUMMARY:Children Sunday
DESCRIPTION:DEC Children (K-5TH) are welcome to join us on Sunday at 9:00 AM / 11:30 AM for in-person worship in Fellowship Hall.
URL:https://nextgen.dec4u.org/event/toddlers-sunday-worship/2022-10-30/
LOCATION:Dynamic Evangelism Church\, 19360 Colima Rd\, Rowland Heights\, CA\, 91748\, United States
CATEGORIES:Children
END:VEVENT
BEGIN:VEVENT
DTSTART;TZID=America/Los_Angeles:20221106T090000
DTEND;TZID=America/Los_Angeles:20221106T130000
DTSTAMP:20260420T203450
CREATED:20230222T231907Z
LAST-MODIFIED:20230222T234829Z
UID:10002790-1667725200-1667739600@nextgen.dec4u.org
SUMMARY:Children Sunday
DESCRIPTION:DEC Children (K-5TH) are welcome to join us on Sunday at 9:00 AM / 11:30 AM for in-person worship in Fellowship Hall.
URL:https://nextgen.dec4u.org/event/toddlers-sunday-worship/2022-11-06/
LOCATION:Dynamic Evangelism Church\, 19360 Colima Rd\, Rowland Heights\, CA\, 91748\, United States
CATEGORIES:Children
END:VEVENT
BEGIN:VEVENT
DTSTART;TZID=America/Los_Angeles:20221113T090000
DTEND;TZID=America/Los_Angeles:20221113T130000
DTSTAMP:20260420T203450
CREATED:20230222T231907Z
LAST-MODIFIED:20230222T234829Z
UID:10002791-1668330000-1668344400@nextgen.dec4u.org
SUMMARY:Children Sunday
DESCRIPTION:DEC Children (K-5TH) are welcome to join us on Sunday at 9:00 AM / 11:30 AM for in-person worship in Fellowship Hall.
URL:https://nextgen.dec4u.org/event/toddlers-sunday-worship/2022-11-13/
LOCATION:Dynamic Evangelism Church\, 19360 Colima Rd\, Rowland Heights\, CA\, 91748\, United States
CATEGORIES:Children
END:VEVENT
BEGIN:VEVENT
DTSTART;TZID=America/Los_Angeles:20221120T090000
DTEND;TZID=America/Los_Angeles:20221120T130000
DTSTAMP:20260420T203450
CREATED:20230222T231907Z
LAST-MODIFIED:20230222T234829Z
UID:10002792-1668934800-1668949200@nextgen.dec4u.org
SUMMARY:Children Sunday
DESCRIPTION:DEC Children (K-5TH) are welcome to join us on Sunday at 9:00 AM / 11:30 AM for in-person worship in Fellowship Hall.
URL:https://nextgen.dec4u.org/event/toddlers-sunday-worship/2022-11-20/
LOCATION:Dynamic Evangelism Church\, 19360 Colima Rd\, Rowland Heights\, CA\, 91748\, United States
CATEGORIES:Children
END:VEVENT
BEGIN:VEVENT
DTSTART;TZID=America/Los_Angeles:20221127T090000
DTEND;TZID=America/Los_Angeles:20221127T130000
DTSTAMP:20260420T203450
CREATED:20230222T231907Z
LAST-MODIFIED:20230222T234829Z
UID:10002793-1669539600-1669554000@nextgen.dec4u.org
SUMMARY:Children Sunday
DESCRIPTION:DEC Children (K-5TH) are welcome to join us on Sunday at 9:00 AM / 11:30 AM for in-person worship in Fellowship Hall.
URL:https://nextgen.dec4u.org/event/toddlers-sunday-worship/2022-11-27/
LOCATION:Dynamic Evangelism Church\, 19360 Colima Rd\, Rowland Heights\, CA\, 91748\, United States
CATEGORIES:Children
END:VEVENT
BEGIN:VEVENT
DTSTART;TZID=America/Los_Angeles:20221204T090000
DTEND;TZID=America/Los_Angeles:20221204T130000
DTSTAMP:20260420T203450
CREATED:20230222T231907Z
LAST-MODIFIED:20230222T234829Z
UID:10002794-1670144400-1670158800@nextgen.dec4u.org
SUMMARY:Children Sunday
DESCRIPTION:DEC Children (K-5TH) are welcome to join us on Sunday at 9:00 AM / 11:30 AM for in-person worship in Fellowship Hall.
URL:https://nextgen.dec4u.org/event/toddlers-sunday-worship/2022-12-04/
LOCATION:Dynamic Evangelism Church\, 19360 Colima Rd\, Rowland Heights\, CA\, 91748\, United States
CATEGORIES:Children
END:VEVENT
BEGIN:VEVENT
DTSTART;TZID=America/Los_Angeles:20221211T090000
DTEND;TZID=America/Los_Angeles:20221211T130000
DTSTAMP:20260420T203450
CREATED:20230222T231907Z
LAST-MODIFIED:20230222T234829Z
UID:10002795-1670749200-1670763600@nextgen.dec4u.org
SUMMARY:Children Sunday
DESCRIPTION:DEC Children (K-5TH) are welcome to join us on Sunday at 9:00 AM / 11:30 AM for in-person worship in Fellowship Hall.
URL:https://nextgen.dec4u.org/event/toddlers-sunday-worship/2022-12-11/
LOCATION:Dynamic Evangelism Church\, 19360 Colima Rd\, Rowland Heights\, CA\, 91748\, United States
CATEGORIES:Children
END:VEVENT
BEGIN:VEVENT
DTSTART;TZID=America/Los_Angeles:20221218T090000
DTEND;TZID=America/Los_Angeles:20221218T130000
DTSTAMP:20260420T203450
CREATED:20230222T231907Z
LAST-MODIFIED:20230222T234829Z
UID:10002796-1671354000-1671368400@nextgen.dec4u.org
SUMMARY:Children Sunday
DESCRIPTION:DEC Children (K-5TH) are welcome to join us on Sunday at 9:00 AM / 11:30 AM for in-person worship in Fellowship Hall.
URL:https://nextgen.dec4u.org/event/toddlers-sunday-worship/2022-12-18/
LOCATION:Dynamic Evangelism Church\, 19360 Colima Rd\, Rowland Heights\, CA\, 91748\, United States
CATEGORIES:Children
END:VEVENT
BEGIN:VEVENT
DTSTART;TZID=America/Los_Angeles:20221225T090000
DTEND;TZID=America/Los_Angeles:20221225T130000
DTSTAMP:20260420T203450
CREATED:20230222T231907Z
LAST-MODIFIED:20230222T234829Z
UID:10002797-1671958800-1671973200@nextgen.dec4u.org
SUMMARY:Children Sunday
DESCRIPTION:DEC Children (K-5TH) are welcome to join us on Sunday at 9:00 AM / 11:30 AM for in-person worship in Fellowship Hall.
URL:https://nextgen.dec4u.org/event/toddlers-sunday-worship/2022-12-25/
LOCATION:Dynamic Evangelism Church\, 19360 Colima Rd\, Rowland Heights\, CA\, 91748\, United States
CATEGORIES:Children
END:VEVENT
BEGIN:VEVENT
DTSTART;TZID=America/Los_Angeles:20230101T090000
DTEND;TZID=America/Los_Angeles:20230101T130000
DTSTAMP:20260420T203450
CREATED:20230222T231907Z
LAST-MODIFIED:20230222T234829Z
UID:10002798-1672563600-1672578000@nextgen.dec4u.org
SUMMARY:Children Sunday
DESCRIPTION:DEC Children (K-5TH) are welcome to join us on Sunday at 9:00 AM / 11:30 AM for in-person worship in Fellowship Hall.
URL:https://nextgen.dec4u.org/event/toddlers-sunday-worship/2023-01-01/
LOCATION:Dynamic Evangelism Church\, 19360 Colima Rd\, Rowland Heights\, CA\, 91748\, United States
CATEGORIES:Children
END:VEVENT
BEGIN:VEVENT
DTSTART;TZID=America/Los_Angeles:20230108T090000
DTEND;TZID=America/Los_Angeles:20230108T130000
DTSTAMP:20260420T203450
CREATED:20230222T231907Z
LAST-MODIFIED:20230222T234829Z
UID:10002799-1673168400-1673182800@nextgen.dec4u.org
SUMMARY:Children Sunday
DESCRIPTION:DEC Children (K-5TH) are welcome to join us on Sunday at 9:00 AM / 11:30 AM for in-person worship in Fellowship Hall.
URL:https://nextgen.dec4u.org/event/toddlers-sunday-worship/2023-01-08/
LOCATION:Dynamic Evangelism Church\, 19360 Colima Rd\, Rowland Heights\, CA\, 91748\, United States
CATEGORIES:Children
END:VEVENT
BEGIN:VEVENT
DTSTART;TZID=America/Los_Angeles:20230115T090000
DTEND;TZID=America/Los_Angeles:20230115T130000
DTSTAMP:20260420T203450
CREATED:20230222T231907Z
LAST-MODIFIED:20230222T234829Z
UID:10002800-1673773200-1673787600@nextgen.dec4u.org
SUMMARY:Children Sunday
DESCRIPTION:DEC Children (K-5TH) are welcome to join us on Sunday at 9:00 AM / 11:30 AM for in-person worship in Fellowship Hall.
URL:https://nextgen.dec4u.org/event/toddlers-sunday-worship/2023-01-15/
LOCATION:Dynamic Evangelism Church\, 19360 Colima Rd\, Rowland Heights\, CA\, 91748\, United States
CATEGORIES:Children
END:VEVENT
BEGIN:VEVENT
DTSTART;TZID=America/Los_Angeles:20230122T090000
DTEND;TZID=America/Los_Angeles:20230122T130000
DTSTAMP:20260420T203450
CREATED:20230222T231907Z
LAST-MODIFIED:20230222T234829Z
UID:10002801-1674378000-1674392400@nextgen.dec4u.org
SUMMARY:Children Sunday
DESCRIPTION:DEC Children (K-5TH) are welcome to join us on Sunday at 9:00 AM / 11:30 AM for in-person worship in Fellowship Hall.
URL:https://nextgen.dec4u.org/event/toddlers-sunday-worship/2023-01-22/
LOCATION:Dynamic Evangelism Church\, 19360 Colima Rd\, Rowland Heights\, CA\, 91748\, United States
CATEGORIES:Children
END:VEVENT
BEGIN:VEVENT
DTSTART;TZID=America/Los_Angeles:20230129T090000
DTEND;TZID=America/Los_Angeles:20230129T130000
DTSTAMP:20260420T203450
CREATED:20230222T231907Z
LAST-MODIFIED:20230222T234829Z
UID:10002802-1674982800-1674997200@nextgen.dec4u.org
SUMMARY:Children Sunday
DESCRIPTION:DEC Children (K-5TH) are welcome to join us on Sunday at 9:00 AM / 11:30 AM for in-person worship in Fellowship Hall.
URL:https://nextgen.dec4u.org/event/toddlers-sunday-worship/2023-01-29/
LOCATION:Dynamic Evangelism Church\, 19360 Colima Rd\, Rowland Heights\, CA\, 91748\, United States
CATEGORIES:Children
END:VEVENT
BEGIN:VEVENT
DTSTART;TZID=America/Los_Angeles:20230205T090000
DTEND;TZID=America/Los_Angeles:20230205T130000
DTSTAMP:20260420T203450
CREATED:20230222T231907Z
LAST-MODIFIED:20230222T234829Z
UID:10002803-1675587600-1675602000@nextgen.dec4u.org
SUMMARY:Children Sunday
DESCRIPTION:DEC Children (K-5TH) are welcome to join us on Sunday at 9:00 AM / 11:30 AM for in-person worship in Fellowship Hall.
URL:https://nextgen.dec4u.org/event/toddlers-sunday-worship/2023-02-05/
LOCATION:Dynamic Evangelism Church\, 19360 Colima Rd\, Rowland Heights\, CA\, 91748\, United States
CATEGORIES:Children
END:VEVENT
BEGIN:VEVENT
DTSTART;TZID=America/Los_Angeles:20230212T090000
DTEND;TZID=America/Los_Angeles:20230212T130000
DTSTAMP:20260420T203450
CREATED:20230222T231907Z
LAST-MODIFIED:20230222T234829Z
UID:10002804-1676192400-1676206800@nextgen.dec4u.org
SUMMARY:Children Sunday
DESCRIPTION:DEC Children (K-5TH) are welcome to join us on Sunday at 9:00 AM / 11:30 AM for in-person worship in Fellowship Hall.
URL:https://nextgen.dec4u.org/event/toddlers-sunday-worship/2023-02-12/
LOCATION:Dynamic Evangelism Church\, 19360 Colima Rd\, Rowland Heights\, CA\, 91748\, United States
CATEGORIES:Children
END:VEVENT
BEGIN:VEVENT
DTSTART;TZID=America/Los_Angeles:20230219T090000
DTEND;TZID=America/Los_Angeles:20230219T130000
DTSTAMP:20260420T203450
CREATED:20230222T231907Z
LAST-MODIFIED:20230222T234829Z
UID:10002805-1676797200-1676811600@nextgen.dec4u.org
SUMMARY:Children Sunday
DESCRIPTION:DEC Children (K-5TH) are welcome to join us on Sunday at 9:00 AM / 11:30 AM for in-person worship in Fellowship Hall.
URL:https://nextgen.dec4u.org/event/toddlers-sunday-worship/2023-02-19/
LOCATION:Dynamic Evangelism Church\, 19360 Colima Rd\, Rowland Heights\, CA\, 91748\, United States
CATEGORIES:Children
END:VEVENT
END:VCALENDAR