BEGIN:VCALENDAR
VERSION:2.0
PRODID:-//DEC Youth Ministry - ECPv6.0.9//NONSGML v1.0//EN
CALSCALE:GREGORIAN
METHOD:PUBLISH
X-WR-CALNAME:DEC Youth Ministry
X-ORIGINAL-URL:https://nextgen.dec4u.org
X-WR-CALDESC:Events for DEC Youth Ministry
REFRESH-INTERVAL;VALUE=DURATION:PT1H
X-Robots-Tag:noindex
X-PUBLISHED-TTL:PT1H
BEGIN:VTIMEZONE
TZID:America/Los_Angeles
BEGIN:DAYLIGHT
TZOFFSETFROM:-0800
TZOFFSETTO:-0700
TZNAME:PDT
DTSTART:20240310T100000
END:DAYLIGHT
BEGIN:STANDARD
TZOFFSETFROM:-0700
TZOFFSETTO:-0800
TZNAME:PST
DTSTART:20241103T090000
END:STANDARD
END:VTIMEZONE
BEGIN:VEVENT
DTSTART;TZID=America/Los_Angeles:20240107T090000
DTEND;TZID=America/Los_Angeles:20240107T130000
DTSTAMP:20260419T163426
CREATED:20230222T231907Z
LAST-MODIFIED:20230222T234829Z
UID:10002851-1704618000-1704632400@nextgen.dec4u.org
SUMMARY:Children Sunday
DESCRIPTION:DEC Children (K-5TH) are welcome to join us on Sunday at 9:00 AM / 11:30 AM for in-person worship in Fellowship Hall.
URL:https://nextgen.dec4u.org/event/toddlers-sunday-worship/2024-01-07/
LOCATION:Dynamic Evangelism Church\, 19360 Colima Rd\, Rowland Heights\, CA\, 91748\, United States
CATEGORIES:Children
END:VEVENT
BEGIN:VEVENT
DTSTART;TZID=America/Los_Angeles:20240114T090000
DTEND;TZID=America/Los_Angeles:20240114T130000
DTSTAMP:20260419T163426
CREATED:20230222T231907Z
LAST-MODIFIED:20230222T234829Z
UID:10002852-1705222800-1705237200@nextgen.dec4u.org
SUMMARY:Children Sunday
DESCRIPTION:DEC Children (K-5TH) are welcome to join us on Sunday at 9:00 AM / 11:30 AM for in-person worship in Fellowship Hall.
URL:https://nextgen.dec4u.org/event/toddlers-sunday-worship/2024-01-14/
LOCATION:Dynamic Evangelism Church\, 19360 Colima Rd\, Rowland Heights\, CA\, 91748\, United States
CATEGORIES:Children
END:VEVENT
BEGIN:VEVENT
DTSTART;TZID=America/Los_Angeles:20240121T090000
DTEND;TZID=America/Los_Angeles:20240121T130000
DTSTAMP:20260419T163426
CREATED:20230222T231907Z
LAST-MODIFIED:20230222T234829Z
UID:10002853-1705827600-1705842000@nextgen.dec4u.org
SUMMARY:Children Sunday
DESCRIPTION:DEC Children (K-5TH) are welcome to join us on Sunday at 9:00 AM / 11:30 AM for in-person worship in Fellowship Hall.
URL:https://nextgen.dec4u.org/event/toddlers-sunday-worship/2024-01-21/
LOCATION:Dynamic Evangelism Church\, 19360 Colima Rd\, Rowland Heights\, CA\, 91748\, United States
CATEGORIES:Children
END:VEVENT
BEGIN:VEVENT
DTSTART;TZID=America/Los_Angeles:20240128T090000
DTEND;TZID=America/Los_Angeles:20240128T130000
DTSTAMP:20260419T163426
CREATED:20230222T231907Z
LAST-MODIFIED:20230222T234829Z
UID:10002854-1706432400-1706446800@nextgen.dec4u.org
SUMMARY:Children Sunday
DESCRIPTION:DEC Children (K-5TH) are welcome to join us on Sunday at 9:00 AM / 11:30 AM for in-person worship in Fellowship Hall.
URL:https://nextgen.dec4u.org/event/toddlers-sunday-worship/2024-01-28/
LOCATION:Dynamic Evangelism Church\, 19360 Colima Rd\, Rowland Heights\, CA\, 91748\, United States
CATEGORIES:Children
END:VEVENT
BEGIN:VEVENT
DTSTART;TZID=America/Los_Angeles:20240204T090000
DTEND;TZID=America/Los_Angeles:20240204T130000
DTSTAMP:20260419T163426
CREATED:20230222T231907Z
LAST-MODIFIED:20230222T234829Z
UID:10002855-1707037200-1707051600@nextgen.dec4u.org
SUMMARY:Children Sunday
DESCRIPTION:DEC Children (K-5TH) are welcome to join us on Sunday at 9:00 AM / 11:30 AM for in-person worship in Fellowship Hall.
URL:https://nextgen.dec4u.org/event/toddlers-sunday-worship/2024-02-04/
LOCATION:Dynamic Evangelism Church\, 19360 Colima Rd\, Rowland Heights\, CA\, 91748\, United States
CATEGORIES:Children
END:VEVENT
BEGIN:VEVENT
DTSTART;TZID=America/Los_Angeles:20240211T090000
DTEND;TZID=America/Los_Angeles:20240211T130000
DTSTAMP:20260419T163426
CREATED:20230222T231907Z
LAST-MODIFIED:20230222T234829Z
UID:10002856-1707642000-1707656400@nextgen.dec4u.org
SUMMARY:Children Sunday
DESCRIPTION:DEC Children (K-5TH) are welcome to join us on Sunday at 9:00 AM / 11:30 AM for in-person worship in Fellowship Hall.
URL:https://nextgen.dec4u.org/event/toddlers-sunday-worship/2024-02-11/
LOCATION:Dynamic Evangelism Church\, 19360 Colima Rd\, Rowland Heights\, CA\, 91748\, United States
CATEGORIES:Children
END:VEVENT
BEGIN:VEVENT
DTSTART;TZID=America/Los_Angeles:20240218T090000
DTEND;TZID=America/Los_Angeles:20240218T130000
DTSTAMP:20260419T163426
CREATED:20230222T231907Z
LAST-MODIFIED:20230222T234829Z
UID:10002857-1708246800-1708261200@nextgen.dec4u.org
SUMMARY:Children Sunday
DESCRIPTION:DEC Children (K-5TH) are welcome to join us on Sunday at 9:00 AM / 11:30 AM for in-person worship in Fellowship Hall.
URL:https://nextgen.dec4u.org/event/toddlers-sunday-worship/2024-02-18/
LOCATION:Dynamic Evangelism Church\, 19360 Colima Rd\, Rowland Heights\, CA\, 91748\, United States
CATEGORIES:Children
END:VEVENT
BEGIN:VEVENT
DTSTART;TZID=America/Los_Angeles:20240225T090000
DTEND;TZID=America/Los_Angeles:20240225T130000
DTSTAMP:20260419T163426
CREATED:20230222T231907Z
LAST-MODIFIED:20230222T234829Z
UID:10002858-1708851600-1708866000@nextgen.dec4u.org
SUMMARY:Children Sunday
DESCRIPTION:DEC Children (K-5TH) are welcome to join us on Sunday at 9:00 AM / 11:30 AM for in-person worship in Fellowship Hall.
URL:https://nextgen.dec4u.org/event/toddlers-sunday-worship/2024-02-25/
LOCATION:Dynamic Evangelism Church\, 19360 Colima Rd\, Rowland Heights\, CA\, 91748\, United States
CATEGORIES:Children
END:VEVENT
BEGIN:VEVENT
DTSTART;TZID=America/Los_Angeles:20240303T090000
DTEND;TZID=America/Los_Angeles:20240303T130000
DTSTAMP:20260419T163426
CREATED:20230222T231907Z
LAST-MODIFIED:20230222T234829Z
UID:10002859-1709456400-1709470800@nextgen.dec4u.org
SUMMARY:Children Sunday
DESCRIPTION:DEC Children (K-5TH) are welcome to join us on Sunday at 9:00 AM / 11:30 AM for in-person worship in Fellowship Hall.
URL:https://nextgen.dec4u.org/event/toddlers-sunday-worship/2024-03-03/
LOCATION:Dynamic Evangelism Church\, 19360 Colima Rd\, Rowland Heights\, CA\, 91748\, United States
CATEGORIES:Children
END:VEVENT
BEGIN:VEVENT
DTSTART;TZID=America/Los_Angeles:20240310T090000
DTEND;TZID=America/Los_Angeles:20240310T130000
DTSTAMP:20260419T163426
CREATED:20230222T231907Z
LAST-MODIFIED:20230222T234829Z
UID:10002860-1710061200-1710075600@nextgen.dec4u.org
SUMMARY:Children Sunday
DESCRIPTION:DEC Children (K-5TH) are welcome to join us on Sunday at 9:00 AM / 11:30 AM for in-person worship in Fellowship Hall.
URL:https://nextgen.dec4u.org/event/toddlers-sunday-worship/2024-03-10/
LOCATION:Dynamic Evangelism Church\, 19360 Colima Rd\, Rowland Heights\, CA\, 91748\, United States
CATEGORIES:Children
END:VEVENT
BEGIN:VEVENT
DTSTART;TZID=America/Los_Angeles:20240317T090000
DTEND;TZID=America/Los_Angeles:20240317T130000
DTSTAMP:20260419T163426
CREATED:20230222T231907Z
LAST-MODIFIED:20230222T234829Z
UID:10002861-1710666000-1710680400@nextgen.dec4u.org
SUMMARY:Children Sunday
DESCRIPTION:DEC Children (K-5TH) are welcome to join us on Sunday at 9:00 AM / 11:30 AM for in-person worship in Fellowship Hall.
URL:https://nextgen.dec4u.org/event/toddlers-sunday-worship/2024-03-17/
LOCATION:Dynamic Evangelism Church\, 19360 Colima Rd\, Rowland Heights\, CA\, 91748\, United States
CATEGORIES:Children
END:VEVENT
BEGIN:VEVENT
DTSTART;TZID=America/Los_Angeles:20240324T090000
DTEND;TZID=America/Los_Angeles:20240324T130000
DTSTAMP:20260419T163426
CREATED:20230222T231907Z
LAST-MODIFIED:20230222T234829Z
UID:10002862-1711270800-1711285200@nextgen.dec4u.org
SUMMARY:Children Sunday
DESCRIPTION:DEC Children (K-5TH) are welcome to join us on Sunday at 9:00 AM / 11:30 AM for in-person worship in Fellowship Hall.
URL:https://nextgen.dec4u.org/event/toddlers-sunday-worship/2024-03-24/
LOCATION:Dynamic Evangelism Church\, 19360 Colima Rd\, Rowland Heights\, CA\, 91748\, United States
CATEGORIES:Children
END:VEVENT
BEGIN:VEVENT
DTSTART;TZID=America/Los_Angeles:20240331T090000
DTEND;TZID=America/Los_Angeles:20240331T130000
DTSTAMP:20260419T163426
CREATED:20230222T231907Z
LAST-MODIFIED:20230222T234829Z
UID:10002863-1711875600-1711890000@nextgen.dec4u.org
SUMMARY:Children Sunday
DESCRIPTION:DEC Children (K-5TH) are welcome to join us on Sunday at 9:00 AM / 11:30 AM for in-person worship in Fellowship Hall.
URL:https://nextgen.dec4u.org/event/toddlers-sunday-worship/2024-03-31/
LOCATION:Dynamic Evangelism Church\, 19360 Colima Rd\, Rowland Heights\, CA\, 91748\, United States
CATEGORIES:Children
END:VEVENT
BEGIN:VEVENT
DTSTART;TZID=America/Los_Angeles:20240407T090000
DTEND;TZID=America/Los_Angeles:20240407T130000
DTSTAMP:20260419T163426
CREATED:20230222T231907Z
LAST-MODIFIED:20230222T234829Z
UID:10002864-1712480400-1712494800@nextgen.dec4u.org
SUMMARY:Children Sunday
DESCRIPTION:DEC Children (K-5TH) are welcome to join us on Sunday at 9:00 AM / 11:30 AM for in-person worship in Fellowship Hall.
URL:https://nextgen.dec4u.org/event/toddlers-sunday-worship/2024-04-07/
LOCATION:Dynamic Evangelism Church\, 19360 Colima Rd\, Rowland Heights\, CA\, 91748\, United States
CATEGORIES:Children
END:VEVENT
BEGIN:VEVENT
DTSTART;TZID=America/Los_Angeles:20240414T090000
DTEND;TZID=America/Los_Angeles:20240414T130000
DTSTAMP:20260419T163426
CREATED:20230222T231907Z
LAST-MODIFIED:20230222T234829Z
UID:10002865-1713085200-1713099600@nextgen.dec4u.org
SUMMARY:Children Sunday
DESCRIPTION:DEC Children (K-5TH) are welcome to join us on Sunday at 9:00 AM / 11:30 AM for in-person worship in Fellowship Hall.
URL:https://nextgen.dec4u.org/event/toddlers-sunday-worship/2024-04-14/
LOCATION:Dynamic Evangelism Church\, 19360 Colima Rd\, Rowland Heights\, CA\, 91748\, United States
CATEGORIES:Children
END:VEVENT
BEGIN:VEVENT
DTSTART;TZID=America/Los_Angeles:20240421T090000
DTEND;TZID=America/Los_Angeles:20240421T130000
DTSTAMP:20260419T163426
CREATED:20230222T231907Z
LAST-MODIFIED:20230222T234829Z
UID:10002866-1713690000-1713704400@nextgen.dec4u.org
SUMMARY:Children Sunday
DESCRIPTION:DEC Children (K-5TH) are welcome to join us on Sunday at 9:00 AM / 11:30 AM for in-person worship in Fellowship Hall.
URL:https://nextgen.dec4u.org/event/toddlers-sunday-worship/2024-04-21/
LOCATION:Dynamic Evangelism Church\, 19360 Colima Rd\, Rowland Heights\, CA\, 91748\, United States
CATEGORIES:Children
END:VEVENT
BEGIN:VEVENT
DTSTART;TZID=America/Los_Angeles:20240428T090000
DTEND;TZID=America/Los_Angeles:20240428T130000
DTSTAMP:20260419T163426
CREATED:20230222T231907Z
LAST-MODIFIED:20230222T234829Z
UID:10002867-1714294800-1714309200@nextgen.dec4u.org
SUMMARY:Children Sunday
DESCRIPTION:DEC Children (K-5TH) are welcome to join us on Sunday at 9:00 AM / 11:30 AM for in-person worship in Fellowship Hall.
URL:https://nextgen.dec4u.org/event/toddlers-sunday-worship/2024-04-28/
LOCATION:Dynamic Evangelism Church\, 19360 Colima Rd\, Rowland Heights\, CA\, 91748\, United States
CATEGORIES:Children
END:VEVENT
BEGIN:VEVENT
DTSTART;TZID=America/Los_Angeles:20240505T090000
DTEND;TZID=America/Los_Angeles:20240505T130000
DTSTAMP:20260419T163426
CREATED:20230222T231907Z
LAST-MODIFIED:20230222T234829Z
UID:10002868-1714899600-1714914000@nextgen.dec4u.org
SUMMARY:Children Sunday
DESCRIPTION:DEC Children (K-5TH) are welcome to join us on Sunday at 9:00 AM / 11:30 AM for in-person worship in Fellowship Hall.
URL:https://nextgen.dec4u.org/event/toddlers-sunday-worship/2024-05-05/
LOCATION:Dynamic Evangelism Church\, 19360 Colima Rd\, Rowland Heights\, CA\, 91748\, United States
CATEGORIES:Children
END:VEVENT
BEGIN:VEVENT
DTSTART;TZID=America/Los_Angeles:20240512T090000
DTEND;TZID=America/Los_Angeles:20240512T130000
DTSTAMP:20260419T163426
CREATED:20230222T231907Z
LAST-MODIFIED:20230222T234829Z
UID:10002869-1715504400-1715518800@nextgen.dec4u.org
SUMMARY:Children Sunday
DESCRIPTION:DEC Children (K-5TH) are welcome to join us on Sunday at 9:00 AM / 11:30 AM for in-person worship in Fellowship Hall.
URL:https://nextgen.dec4u.org/event/toddlers-sunday-worship/2024-05-12/
LOCATION:Dynamic Evangelism Church\, 19360 Colima Rd\, Rowland Heights\, CA\, 91748\, United States
CATEGORIES:Children
END:VEVENT
BEGIN:VEVENT
DTSTART;TZID=America/Los_Angeles:20240519T090000
DTEND;TZID=America/Los_Angeles:20240519T130000
DTSTAMP:20260419T163426
CREATED:20230222T231907Z
LAST-MODIFIED:20230222T234829Z
UID:10002870-1716109200-1716123600@nextgen.dec4u.org
SUMMARY:Children Sunday
DESCRIPTION:DEC Children (K-5TH) are welcome to join us on Sunday at 9:00 AM / 11:30 AM for in-person worship in Fellowship Hall.
URL:https://nextgen.dec4u.org/event/toddlers-sunday-worship/2024-05-19/
LOCATION:Dynamic Evangelism Church\, 19360 Colima Rd\, Rowland Heights\, CA\, 91748\, United States
CATEGORIES:Children
END:VEVENT
BEGIN:VEVENT
DTSTART;TZID=America/Los_Angeles:20240526T090000
DTEND;TZID=America/Los_Angeles:20240526T130000
DTSTAMP:20260419T163426
CREATED:20230222T231907Z
LAST-MODIFIED:20230222T234829Z
UID:10002871-1716714000-1716728400@nextgen.dec4u.org
SUMMARY:Children Sunday
DESCRIPTION:DEC Children (K-5TH) are welcome to join us on Sunday at 9:00 AM / 11:30 AM for in-person worship in Fellowship Hall.
URL:https://nextgen.dec4u.org/event/toddlers-sunday-worship/2024-05-26/
LOCATION:Dynamic Evangelism Church\, 19360 Colima Rd\, Rowland Heights\, CA\, 91748\, United States
CATEGORIES:Children
END:VEVENT
BEGIN:VEVENT
DTSTART;TZID=America/Los_Angeles:20240602T090000
DTEND;TZID=America/Los_Angeles:20240602T130000
DTSTAMP:20260419T163426
CREATED:20230222T231907Z
LAST-MODIFIED:20230222T234829Z
UID:10002872-1717318800-1717333200@nextgen.dec4u.org
SUMMARY:Children Sunday
DESCRIPTION:DEC Children (K-5TH) are welcome to join us on Sunday at 9:00 AM / 11:30 AM for in-person worship in Fellowship Hall.
URL:https://nextgen.dec4u.org/event/toddlers-sunday-worship/2024-06-02/
LOCATION:Dynamic Evangelism Church\, 19360 Colima Rd\, Rowland Heights\, CA\, 91748\, United States
CATEGORIES:Children
END:VEVENT
BEGIN:VEVENT
DTSTART;TZID=America/Los_Angeles:20240609T090000
DTEND;TZID=America/Los_Angeles:20240609T130000
DTSTAMP:20260419T163426
CREATED:20230222T231907Z
LAST-MODIFIED:20230222T234829Z
UID:10002873-1717923600-1717938000@nextgen.dec4u.org
SUMMARY:Children Sunday
DESCRIPTION:DEC Children (K-5TH) are welcome to join us on Sunday at 9:00 AM / 11:30 AM for in-person worship in Fellowship Hall.
URL:https://nextgen.dec4u.org/event/toddlers-sunday-worship/2024-06-09/
LOCATION:Dynamic Evangelism Church\, 19360 Colima Rd\, Rowland Heights\, CA\, 91748\, United States
CATEGORIES:Children
END:VEVENT
BEGIN:VEVENT
DTSTART;TZID=America/Los_Angeles:20240616T090000
DTEND;TZID=America/Los_Angeles:20240616T130000
DTSTAMP:20260419T163426
CREATED:20230222T231907Z
LAST-MODIFIED:20230222T234829Z
UID:10002874-1718528400-1718542800@nextgen.dec4u.org
SUMMARY:Children Sunday
DESCRIPTION:DEC Children (K-5TH) are welcome to join us on Sunday at 9:00 AM / 11:30 AM for in-person worship in Fellowship Hall.
URL:https://nextgen.dec4u.org/event/toddlers-sunday-worship/2024-06-16/
LOCATION:Dynamic Evangelism Church\, 19360 Colima Rd\, Rowland Heights\, CA\, 91748\, United States
CATEGORIES:Children
END:VEVENT
BEGIN:VEVENT
DTSTART;TZID=America/Los_Angeles:20240623T090000
DTEND;TZID=America/Los_Angeles:20240623T130000
DTSTAMP:20260419T163426
CREATED:20230222T231907Z
LAST-MODIFIED:20230222T234829Z
UID:10002875-1719133200-1719147600@nextgen.dec4u.org
SUMMARY:Children Sunday
DESCRIPTION:DEC Children (K-5TH) are welcome to join us on Sunday at 9:00 AM / 11:30 AM for in-person worship in Fellowship Hall.
URL:https://nextgen.dec4u.org/event/toddlers-sunday-worship/2024-06-23/
LOCATION:Dynamic Evangelism Church\, 19360 Colima Rd\, Rowland Heights\, CA\, 91748\, United States
CATEGORIES:Children
END:VEVENT
BEGIN:VEVENT
DTSTART;TZID=America/Los_Angeles:20240630T090000
DTEND;TZID=America/Los_Angeles:20240630T130000
DTSTAMP:20260419T163426
CREATED:20230222T231907Z
LAST-MODIFIED:20230222T234829Z
UID:10002876-1719738000-1719752400@nextgen.dec4u.org
SUMMARY:Children Sunday
DESCRIPTION:DEC Children (K-5TH) are welcome to join us on Sunday at 9:00 AM / 11:30 AM for in-person worship in Fellowship Hall.
URL:https://nextgen.dec4u.org/event/toddlers-sunday-worship/2024-06-30/
LOCATION:Dynamic Evangelism Church\, 19360 Colima Rd\, Rowland Heights\, CA\, 91748\, United States
CATEGORIES:Children
END:VEVENT
BEGIN:VEVENT
DTSTART;TZID=America/Los_Angeles:20240707T090000
DTEND;TZID=America/Los_Angeles:20240707T130000
DTSTAMP:20260419T163426
CREATED:20230222T231907Z
LAST-MODIFIED:20230222T234829Z
UID:10002877-1720342800-1720357200@nextgen.dec4u.org
SUMMARY:Children Sunday
DESCRIPTION:DEC Children (K-5TH) are welcome to join us on Sunday at 9:00 AM / 11:30 AM for in-person worship in Fellowship Hall.
URL:https://nextgen.dec4u.org/event/toddlers-sunday-worship/2024-07-07/
LOCATION:Dynamic Evangelism Church\, 19360 Colima Rd\, Rowland Heights\, CA\, 91748\, United States
CATEGORIES:Children
END:VEVENT
BEGIN:VEVENT
DTSTART;TZID=America/Los_Angeles:20240714T090000
DTEND;TZID=America/Los_Angeles:20240714T130000
DTSTAMP:20260419T163426
CREATED:20230222T231907Z
LAST-MODIFIED:20230222T234829Z
UID:10002878-1720947600-1720962000@nextgen.dec4u.org
SUMMARY:Children Sunday
DESCRIPTION:DEC Children (K-5TH) are welcome to join us on Sunday at 9:00 AM / 11:30 AM for in-person worship in Fellowship Hall.
URL:https://nextgen.dec4u.org/event/toddlers-sunday-worship/2024-07-14/
LOCATION:Dynamic Evangelism Church\, 19360 Colima Rd\, Rowland Heights\, CA\, 91748\, United States
CATEGORIES:Children
END:VEVENT
BEGIN:VEVENT
DTSTART;TZID=America/Los_Angeles:20240721T090000
DTEND;TZID=America/Los_Angeles:20240721T130000
DTSTAMP:20260419T163426
CREATED:20230222T231907Z
LAST-MODIFIED:20230222T234829Z
UID:10002879-1721552400-1721566800@nextgen.dec4u.org
SUMMARY:Children Sunday
DESCRIPTION:DEC Children (K-5TH) are welcome to join us on Sunday at 9:00 AM / 11:30 AM for in-person worship in Fellowship Hall.
URL:https://nextgen.dec4u.org/event/toddlers-sunday-worship/2024-07-21/
LOCATION:Dynamic Evangelism Church\, 19360 Colima Rd\, Rowland Heights\, CA\, 91748\, United States
CATEGORIES:Children
END:VEVENT
BEGIN:VEVENT
DTSTART;TZID=America/Los_Angeles:20240728T090000
DTEND;TZID=America/Los_Angeles:20240728T130000
DTSTAMP:20260419T163426
CREATED:20230222T231907Z
LAST-MODIFIED:20230222T234829Z
UID:10002880-1722157200-1722171600@nextgen.dec4u.org
SUMMARY:Children Sunday
DESCRIPTION:DEC Children (K-5TH) are welcome to join us on Sunday at 9:00 AM / 11:30 AM for in-person worship in Fellowship Hall.
URL:https://nextgen.dec4u.org/event/toddlers-sunday-worship/2024-07-28/
LOCATION:Dynamic Evangelism Church\, 19360 Colima Rd\, Rowland Heights\, CA\, 91748\, United States
CATEGORIES:Children
END:VEVENT
END:VCALENDAR