BEGIN:VCALENDAR
VERSION:2.0
PRODID:-//DEC Youth Ministry - ECPv6.0.9//NONSGML v1.0//EN
CALSCALE:GREGORIAN
METHOD:PUBLISH
X-ORIGINAL-URL:https://nextgen.dec4u.org
X-WR-CALDESC:Events for DEC Youth Ministry
REFRESH-INTERVAL;VALUE=DURATION:PT1H
X-Robots-Tag:noindex
X-PUBLISHED-TTL:PT1H
BEGIN:VTIMEZONE
TZID:America/Los_Angeles
BEGIN:DAYLIGHT
TZOFFSETFROM:-0800
TZOFFSETTO:-0700
TZNAME:PDT
DTSTART:20250309T100000
END:DAYLIGHT
BEGIN:STANDARD
TZOFFSETFROM:-0700
TZOFFSETTO:-0800
TZNAME:PST
DTSTART:20251102T090000
END:STANDARD
END:VTIMEZONE
BEGIN:VEVENT
DTSTART;TZID=America/Los_Angeles:20250427T090000
DTEND;TZID=America/Los_Angeles:20250427T130000
DTSTAMP:20260419T162409
CREATED:20230222T231907Z
LAST-MODIFIED:20230222T234829Z
UID:10002919-1745744400-1745758800@nextgen.dec4u.org
SUMMARY:Children Sunday
DESCRIPTION:DEC Children (K-5TH) are welcome to join us on Sunday at 9:00 AM / 11:30 AM for in-person worship in Fellowship Hall.
URL:https://nextgen.dec4u.org/event/toddlers-sunday-worship/2025-04-27/
LOCATION:Dynamic Evangelism Church\, 19360 Colima Rd\, Rowland Heights\, CA\, 91748\, United States
CATEGORIES:Children
END:VEVENT
BEGIN:VEVENT
DTSTART;TZID=America/Los_Angeles:20250504T090000
DTEND;TZID=America/Los_Angeles:20250504T130000
DTSTAMP:20260419T162409
CREATED:20230222T231907Z
LAST-MODIFIED:20230222T234829Z
UID:10002920-1746349200-1746363600@nextgen.dec4u.org
SUMMARY:Children Sunday
DESCRIPTION:DEC Children (K-5TH) are welcome to join us on Sunday at 9:00 AM / 11:30 AM for in-person worship in Fellowship Hall.
URL:https://nextgen.dec4u.org/event/toddlers-sunday-worship/2025-05-04/
LOCATION:Dynamic Evangelism Church\, 19360 Colima Rd\, Rowland Heights\, CA\, 91748\, United States
CATEGORIES:Children
END:VEVENT
BEGIN:VEVENT
DTSTART;TZID=America/Los_Angeles:20250511T090000
DTEND;TZID=America/Los_Angeles:20250511T130000
DTSTAMP:20260419T162409
CREATED:20230222T231907Z
LAST-MODIFIED:20230222T234829Z
UID:10002921-1746954000-1746968400@nextgen.dec4u.org
SUMMARY:Children Sunday
DESCRIPTION:DEC Children (K-5TH) are welcome to join us on Sunday at 9:00 AM / 11:30 AM for in-person worship in Fellowship Hall.
URL:https://nextgen.dec4u.org/event/toddlers-sunday-worship/2025-05-11/
LOCATION:Dynamic Evangelism Church\, 19360 Colima Rd\, Rowland Heights\, CA\, 91748\, United States
CATEGORIES:Children
END:VEVENT
BEGIN:VEVENT
DTSTART;TZID=America/Los_Angeles:20250518T090000
DTEND;TZID=America/Los_Angeles:20250518T130000
DTSTAMP:20260419T162409
CREATED:20230222T231907Z
LAST-MODIFIED:20230222T234829Z
UID:10002922-1747558800-1747573200@nextgen.dec4u.org
SUMMARY:Children Sunday
DESCRIPTION:DEC Children (K-5TH) are welcome to join us on Sunday at 9:00 AM / 11:30 AM for in-person worship in Fellowship Hall.
URL:https://nextgen.dec4u.org/event/toddlers-sunday-worship/2025-05-18/
LOCATION:Dynamic Evangelism Church\, 19360 Colima Rd\, Rowland Heights\, CA\, 91748\, United States
CATEGORIES:Children
END:VEVENT
BEGIN:VEVENT
DTSTART;TZID=America/Los_Angeles:20250525T090000
DTEND;TZID=America/Los_Angeles:20250525T130000
DTSTAMP:20260419T162409
CREATED:20230222T231907Z
LAST-MODIFIED:20230222T234829Z
UID:10002923-1748163600-1748178000@nextgen.dec4u.org
SUMMARY:Children Sunday
DESCRIPTION:DEC Children (K-5TH) are welcome to join us on Sunday at 9:00 AM / 11:30 AM for in-person worship in Fellowship Hall.
URL:https://nextgen.dec4u.org/event/toddlers-sunday-worship/2025-05-25/
LOCATION:Dynamic Evangelism Church\, 19360 Colima Rd\, Rowland Heights\, CA\, 91748\, United States
CATEGORIES:Children
END:VEVENT
BEGIN:VEVENT
DTSTART;TZID=America/Los_Angeles:20250601T090000
DTEND;TZID=America/Los_Angeles:20250601T130000
DTSTAMP:20260419T162409
CREATED:20230222T231907Z
LAST-MODIFIED:20230222T234829Z
UID:10002924-1748768400-1748782800@nextgen.dec4u.org
SUMMARY:Children Sunday
DESCRIPTION:DEC Children (K-5TH) are welcome to join us on Sunday at 9:00 AM / 11:30 AM for in-person worship in Fellowship Hall.
URL:https://nextgen.dec4u.org/event/toddlers-sunday-worship/2025-06-01/
LOCATION:Dynamic Evangelism Church\, 19360 Colima Rd\, Rowland Heights\, CA\, 91748\, United States
CATEGORIES:Children
END:VEVENT
BEGIN:VEVENT
DTSTART;TZID=America/Los_Angeles:20250608T090000
DTEND;TZID=America/Los_Angeles:20250608T130000
DTSTAMP:20260419T162409
CREATED:20230222T231907Z
LAST-MODIFIED:20230222T234829Z
UID:10002925-1749373200-1749387600@nextgen.dec4u.org
SUMMARY:Children Sunday
DESCRIPTION:DEC Children (K-5TH) are welcome to join us on Sunday at 9:00 AM / 11:30 AM for in-person worship in Fellowship Hall.
URL:https://nextgen.dec4u.org/event/toddlers-sunday-worship/2025-06-08/
LOCATION:Dynamic Evangelism Church\, 19360 Colima Rd\, Rowland Heights\, CA\, 91748\, United States
CATEGORIES:Children
END:VEVENT
BEGIN:VEVENT
DTSTART;TZID=America/Los_Angeles:20250615T090000
DTEND;TZID=America/Los_Angeles:20250615T130000
DTSTAMP:20260419T162409
CREATED:20230222T231907Z
LAST-MODIFIED:20230222T234829Z
UID:10002926-1749978000-1749992400@nextgen.dec4u.org
SUMMARY:Children Sunday
DESCRIPTION:DEC Children (K-5TH) are welcome to join us on Sunday at 9:00 AM / 11:30 AM for in-person worship in Fellowship Hall.
URL:https://nextgen.dec4u.org/event/toddlers-sunday-worship/2025-06-15/
LOCATION:Dynamic Evangelism Church\, 19360 Colima Rd\, Rowland Heights\, CA\, 91748\, United States
CATEGORIES:Children
END:VEVENT
BEGIN:VEVENT
DTSTART;TZID=America/Los_Angeles:20250622T090000
DTEND;TZID=America/Los_Angeles:20250622T130000
DTSTAMP:20260419T162409
CREATED:20230222T231907Z
LAST-MODIFIED:20230222T234829Z
UID:10002927-1750582800-1750597200@nextgen.dec4u.org
SUMMARY:Children Sunday
DESCRIPTION:DEC Children (K-5TH) are welcome to join us on Sunday at 9:00 AM / 11:30 AM for in-person worship in Fellowship Hall.
URL:https://nextgen.dec4u.org/event/toddlers-sunday-worship/2025-06-22/
LOCATION:Dynamic Evangelism Church\, 19360 Colima Rd\, Rowland Heights\, CA\, 91748\, United States
CATEGORIES:Children
END:VEVENT
BEGIN:VEVENT
DTSTART;TZID=America/Los_Angeles:20250629T090000
DTEND;TZID=America/Los_Angeles:20250629T130000
DTSTAMP:20260419T162409
CREATED:20230222T231907Z
LAST-MODIFIED:20230222T234829Z
UID:10002928-1751187600-1751202000@nextgen.dec4u.org
SUMMARY:Children Sunday
DESCRIPTION:DEC Children (K-5TH) are welcome to join us on Sunday at 9:00 AM / 11:30 AM for in-person worship in Fellowship Hall.
URL:https://nextgen.dec4u.org/event/toddlers-sunday-worship/2025-06-29/
LOCATION:Dynamic Evangelism Church\, 19360 Colima Rd\, Rowland Heights\, CA\, 91748\, United States
CATEGORIES:Children
END:VEVENT
BEGIN:VEVENT
DTSTART;TZID=America/Los_Angeles:20250706T090000
DTEND;TZID=America/Los_Angeles:20250706T130000
DTSTAMP:20260419T162409
CREATED:20230222T231907Z
LAST-MODIFIED:20230222T234829Z
UID:10002929-1751792400-1751806800@nextgen.dec4u.org
SUMMARY:Children Sunday
DESCRIPTION:DEC Children (K-5TH) are welcome to join us on Sunday at 9:00 AM / 11:30 AM for in-person worship in Fellowship Hall.
URL:https://nextgen.dec4u.org/event/toddlers-sunday-worship/2025-07-06/
LOCATION:Dynamic Evangelism Church\, 19360 Colima Rd\, Rowland Heights\, CA\, 91748\, United States
CATEGORIES:Children
END:VEVENT
BEGIN:VEVENT
DTSTART;TZID=America/Los_Angeles:20250713T090000
DTEND;TZID=America/Los_Angeles:20250713T130000
DTSTAMP:20260419T162409
CREATED:20230222T231907Z
LAST-MODIFIED:20230222T234829Z
UID:10002930-1752397200-1752411600@nextgen.dec4u.org
SUMMARY:Children Sunday
DESCRIPTION:DEC Children (K-5TH) are welcome to join us on Sunday at 9:00 AM / 11:30 AM for in-person worship in Fellowship Hall.
URL:https://nextgen.dec4u.org/event/toddlers-sunday-worship/2025-07-13/
LOCATION:Dynamic Evangelism Church\, 19360 Colima Rd\, Rowland Heights\, CA\, 91748\, United States
CATEGORIES:Children
END:VEVENT
BEGIN:VEVENT
DTSTART;TZID=America/Los_Angeles:20250720T090000
DTEND;TZID=America/Los_Angeles:20250720T130000
DTSTAMP:20260419T162409
CREATED:20230222T231907Z
LAST-MODIFIED:20230222T234829Z
UID:10002931-1753002000-1753016400@nextgen.dec4u.org
SUMMARY:Children Sunday
DESCRIPTION:DEC Children (K-5TH) are welcome to join us on Sunday at 9:00 AM / 11:30 AM for in-person worship in Fellowship Hall.
URL:https://nextgen.dec4u.org/event/toddlers-sunday-worship/2025-07-20/
LOCATION:Dynamic Evangelism Church\, 19360 Colima Rd\, Rowland Heights\, CA\, 91748\, United States
CATEGORIES:Children
END:VEVENT
BEGIN:VEVENT
DTSTART;TZID=America/Los_Angeles:20250727T090000
DTEND;TZID=America/Los_Angeles:20250727T130000
DTSTAMP:20260419T162409
CREATED:20230222T231907Z
LAST-MODIFIED:20230222T234829Z
UID:10002932-1753606800-1753621200@nextgen.dec4u.org
SUMMARY:Children Sunday
DESCRIPTION:DEC Children (K-5TH) are welcome to join us on Sunday at 9:00 AM / 11:30 AM for in-person worship in Fellowship Hall.
URL:https://nextgen.dec4u.org/event/toddlers-sunday-worship/2025-07-27/
LOCATION:Dynamic Evangelism Church\, 19360 Colima Rd\, Rowland Heights\, CA\, 91748\, United States
CATEGORIES:Children
END:VEVENT
BEGIN:VEVENT
DTSTART;TZID=America/Los_Angeles:20250803T090000
DTEND;TZID=America/Los_Angeles:20250803T130000
DTSTAMP:20260419T162409
CREATED:20230222T231907Z
LAST-MODIFIED:20230222T234829Z
UID:10002933-1754211600-1754226000@nextgen.dec4u.org
SUMMARY:Children Sunday
DESCRIPTION:DEC Children (K-5TH) are welcome to join us on Sunday at 9:00 AM / 11:30 AM for in-person worship in Fellowship Hall.
URL:https://nextgen.dec4u.org/event/toddlers-sunday-worship/2025-08-03/
LOCATION:Dynamic Evangelism Church\, 19360 Colima Rd\, Rowland Heights\, CA\, 91748\, United States
CATEGORIES:Children
END:VEVENT
BEGIN:VEVENT
DTSTART;TZID=America/Los_Angeles:20250810T090000
DTEND;TZID=America/Los_Angeles:20250810T130000
DTSTAMP:20260419T162409
CREATED:20230222T231907Z
LAST-MODIFIED:20230222T234829Z
UID:10002934-1754816400-1754830800@nextgen.dec4u.org
SUMMARY:Children Sunday
DESCRIPTION:DEC Children (K-5TH) are welcome to join us on Sunday at 9:00 AM / 11:30 AM for in-person worship in Fellowship Hall.
URL:https://nextgen.dec4u.org/event/toddlers-sunday-worship/2025-08-10/
LOCATION:Dynamic Evangelism Church\, 19360 Colima Rd\, Rowland Heights\, CA\, 91748\, United States
CATEGORIES:Children
END:VEVENT
BEGIN:VEVENT
DTSTART;TZID=America/Los_Angeles:20250817T090000
DTEND;TZID=America/Los_Angeles:20250817T130000
DTSTAMP:20260419T162409
CREATED:20230222T231907Z
LAST-MODIFIED:20230222T234829Z
UID:10002935-1755421200-1755435600@nextgen.dec4u.org
SUMMARY:Children Sunday
DESCRIPTION:DEC Children (K-5TH) are welcome to join us on Sunday at 9:00 AM / 11:30 AM for in-person worship in Fellowship Hall.
URL:https://nextgen.dec4u.org/event/toddlers-sunday-worship/2025-08-17/
LOCATION:Dynamic Evangelism Church\, 19360 Colima Rd\, Rowland Heights\, CA\, 91748\, United States
CATEGORIES:Children
END:VEVENT
BEGIN:VEVENT
DTSTART;TZID=America/Los_Angeles:20250824T090000
DTEND;TZID=America/Los_Angeles:20250824T130000
DTSTAMP:20260419T162409
CREATED:20230222T231907Z
LAST-MODIFIED:20230222T234829Z
UID:10002936-1756026000-1756040400@nextgen.dec4u.org
SUMMARY:Children Sunday
DESCRIPTION:DEC Children (K-5TH) are welcome to join us on Sunday at 9:00 AM / 11:30 AM for in-person worship in Fellowship Hall.
URL:https://nextgen.dec4u.org/event/toddlers-sunday-worship/2025-08-24/
LOCATION:Dynamic Evangelism Church\, 19360 Colima Rd\, Rowland Heights\, CA\, 91748\, United States
CATEGORIES:Children
END:VEVENT
BEGIN:VEVENT
DTSTART;TZID=America/Los_Angeles:20250831T090000
DTEND;TZID=America/Los_Angeles:20250831T130000
DTSTAMP:20260419T162409
CREATED:20230222T231907Z
LAST-MODIFIED:20230222T234829Z
UID:10002937-1756630800-1756645200@nextgen.dec4u.org
SUMMARY:Children Sunday
DESCRIPTION:DEC Children (K-5TH) are welcome to join us on Sunday at 9:00 AM / 11:30 AM for in-person worship in Fellowship Hall.
URL:https://nextgen.dec4u.org/event/toddlers-sunday-worship/2025-08-31/
LOCATION:Dynamic Evangelism Church\, 19360 Colima Rd\, Rowland Heights\, CA\, 91748\, United States
CATEGORIES:Children
END:VEVENT
BEGIN:VEVENT
DTSTART;TZID=America/Los_Angeles:20250907T090000
DTEND;TZID=America/Los_Angeles:20250907T130000
DTSTAMP:20260419T162409
CREATED:20230222T231907Z
LAST-MODIFIED:20230222T234829Z
UID:10002938-1757235600-1757250000@nextgen.dec4u.org
SUMMARY:Children Sunday
DESCRIPTION:DEC Children (K-5TH) are welcome to join us on Sunday at 9:00 AM / 11:30 AM for in-person worship in Fellowship Hall.
URL:https://nextgen.dec4u.org/event/toddlers-sunday-worship/2025-09-07/
LOCATION:Dynamic Evangelism Church\, 19360 Colima Rd\, Rowland Heights\, CA\, 91748\, United States
CATEGORIES:Children
END:VEVENT
BEGIN:VEVENT
DTSTART;TZID=America/Los_Angeles:20250914T090000
DTEND;TZID=America/Los_Angeles:20250914T130000
DTSTAMP:20260419T162409
CREATED:20230222T231907Z
LAST-MODIFIED:20230222T234829Z
UID:10002939-1757840400-1757854800@nextgen.dec4u.org
SUMMARY:Children Sunday
DESCRIPTION:DEC Children (K-5TH) are welcome to join us on Sunday at 9:00 AM / 11:30 AM for in-person worship in Fellowship Hall.
URL:https://nextgen.dec4u.org/event/toddlers-sunday-worship/2025-09-14/
LOCATION:Dynamic Evangelism Church\, 19360 Colima Rd\, Rowland Heights\, CA\, 91748\, United States
CATEGORIES:Children
END:VEVENT
BEGIN:VEVENT
DTSTART;TZID=America/Los_Angeles:20250921T090000
DTEND;TZID=America/Los_Angeles:20250921T130000
DTSTAMP:20260419T162409
CREATED:20230222T231907Z
LAST-MODIFIED:20230222T234829Z
UID:10002940-1758445200-1758459600@nextgen.dec4u.org
SUMMARY:Children Sunday
DESCRIPTION:DEC Children (K-5TH) are welcome to join us on Sunday at 9:00 AM / 11:30 AM for in-person worship in Fellowship Hall.
URL:https://nextgen.dec4u.org/event/toddlers-sunday-worship/2025-09-21/
LOCATION:Dynamic Evangelism Church\, 19360 Colima Rd\, Rowland Heights\, CA\, 91748\, United States
CATEGORIES:Children
END:VEVENT
BEGIN:VEVENT
DTSTART;TZID=America/Los_Angeles:20250928T090000
DTEND;TZID=America/Los_Angeles:20250928T130000
DTSTAMP:20260419T162409
CREATED:20230222T231907Z
LAST-MODIFIED:20230222T234829Z
UID:10002941-1759050000-1759064400@nextgen.dec4u.org
SUMMARY:Children Sunday
DESCRIPTION:DEC Children (K-5TH) are welcome to join us on Sunday at 9:00 AM / 11:30 AM for in-person worship in Fellowship Hall.
URL:https://nextgen.dec4u.org/event/toddlers-sunday-worship/2025-09-28/
LOCATION:Dynamic Evangelism Church\, 19360 Colima Rd\, Rowland Heights\, CA\, 91748\, United States
CATEGORIES:Children
END:VEVENT
BEGIN:VEVENT
DTSTART;TZID=America/Los_Angeles:20251005T090000
DTEND;TZID=America/Los_Angeles:20251005T130000
DTSTAMP:20260419T162409
CREATED:20230222T231907Z
LAST-MODIFIED:20230222T234829Z
UID:10002942-1759654800-1759669200@nextgen.dec4u.org
SUMMARY:Children Sunday
DESCRIPTION:DEC Children (K-5TH) are welcome to join us on Sunday at 9:00 AM / 11:30 AM for in-person worship in Fellowship Hall.
URL:https://nextgen.dec4u.org/event/toddlers-sunday-worship/2025-10-05/
LOCATION:Dynamic Evangelism Church\, 19360 Colima Rd\, Rowland Heights\, CA\, 91748\, United States
CATEGORIES:Children
END:VEVENT
BEGIN:VEVENT
DTSTART;TZID=America/Los_Angeles:20251012T090000
DTEND;TZID=America/Los_Angeles:20251012T130000
DTSTAMP:20260419T162409
CREATED:20230222T231907Z
LAST-MODIFIED:20230222T234829Z
UID:10002943-1760259600-1760274000@nextgen.dec4u.org
SUMMARY:Children Sunday
DESCRIPTION:DEC Children (K-5TH) are welcome to join us on Sunday at 9:00 AM / 11:30 AM for in-person worship in Fellowship Hall.
URL:https://nextgen.dec4u.org/event/toddlers-sunday-worship/2025-10-12/
LOCATION:Dynamic Evangelism Church\, 19360 Colima Rd\, Rowland Heights\, CA\, 91748\, United States
CATEGORIES:Children
END:VEVENT
BEGIN:VEVENT
DTSTART;TZID=America/Los_Angeles:20251019T090000
DTEND;TZID=America/Los_Angeles:20251019T130000
DTSTAMP:20260419T162409
CREATED:20230222T231907Z
LAST-MODIFIED:20230222T234829Z
UID:10002944-1760864400-1760878800@nextgen.dec4u.org
SUMMARY:Children Sunday
DESCRIPTION:DEC Children (K-5TH) are welcome to join us on Sunday at 9:00 AM / 11:30 AM for in-person worship in Fellowship Hall.
URL:https://nextgen.dec4u.org/event/toddlers-sunday-worship/2025-10-19/
LOCATION:Dynamic Evangelism Church\, 19360 Colima Rd\, Rowland Heights\, CA\, 91748\, United States
CATEGORIES:Children
END:VEVENT
BEGIN:VEVENT
DTSTART;TZID=America/Los_Angeles:20251026T090000
DTEND;TZID=America/Los_Angeles:20251026T130000
DTSTAMP:20260419T162409
CREATED:20230222T231907Z
LAST-MODIFIED:20230222T234829Z
UID:10002945-1761469200-1761483600@nextgen.dec4u.org
SUMMARY:Children Sunday
DESCRIPTION:DEC Children (K-5TH) are welcome to join us on Sunday at 9:00 AM / 11:30 AM for in-person worship in Fellowship Hall.
URL:https://nextgen.dec4u.org/event/toddlers-sunday-worship/2025-10-26/
LOCATION:Dynamic Evangelism Church\, 19360 Colima Rd\, Rowland Heights\, CA\, 91748\, United States
CATEGORIES:Children
END:VEVENT
BEGIN:VEVENT
DTSTART;TZID=America/Los_Angeles:20251102T090000
DTEND;TZID=America/Los_Angeles:20251102T130000
DTSTAMP:20260419T162409
CREATED:20230222T231907Z
LAST-MODIFIED:20230222T234829Z
UID:10002946-1762074000-1762088400@nextgen.dec4u.org
SUMMARY:Children Sunday
DESCRIPTION:DEC Children (K-5TH) are welcome to join us on Sunday at 9:00 AM / 11:30 AM for in-person worship in Fellowship Hall.
URL:https://nextgen.dec4u.org/event/toddlers-sunday-worship/2025-11-02/
LOCATION:Dynamic Evangelism Church\, 19360 Colima Rd\, Rowland Heights\, CA\, 91748\, United States
CATEGORIES:Children
END:VEVENT
BEGIN:VEVENT
DTSTART;TZID=America/Los_Angeles:20251109T090000
DTEND;TZID=America/Los_Angeles:20251109T130000
DTSTAMP:20260419T162409
CREATED:20230222T231907Z
LAST-MODIFIED:20230222T234829Z
UID:10002947-1762678800-1762693200@nextgen.dec4u.org
SUMMARY:Children Sunday
DESCRIPTION:DEC Children (K-5TH) are welcome to join us on Sunday at 9:00 AM / 11:30 AM for in-person worship in Fellowship Hall.
URL:https://nextgen.dec4u.org/event/toddlers-sunday-worship/2025-11-09/
LOCATION:Dynamic Evangelism Church\, 19360 Colima Rd\, Rowland Heights\, CA\, 91748\, United States
CATEGORIES:Children
END:VEVENT
BEGIN:VEVENT
DTSTART;TZID=America/Los_Angeles:20251116T090000
DTEND;TZID=America/Los_Angeles:20251116T130000
DTSTAMP:20260419T162409
CREATED:20230222T231907Z
LAST-MODIFIED:20230222T234829Z
UID:10002948-1763283600-1763298000@nextgen.dec4u.org
SUMMARY:Children Sunday
DESCRIPTION:DEC Children (K-5TH) are welcome to join us on Sunday at 9:00 AM / 11:30 AM for in-person worship in Fellowship Hall.
URL:https://nextgen.dec4u.org/event/toddlers-sunday-worship/2025-11-16/
LOCATION:Dynamic Evangelism Church\, 19360 Colima Rd\, Rowland Heights\, CA\, 91748\, United States
CATEGORIES:Children
END:VEVENT
END:VCALENDAR