BEGIN:VCALENDAR
VERSION:2.0
PRODID:-//DEC Youth Ministry - ECPv6.0.9//NONSGML v1.0//EN
CALSCALE:GREGORIAN
METHOD:PUBLISH
X-ORIGINAL-URL:https://nextgen.dec4u.org
X-WR-CALDESC:Events for DEC Youth Ministry
REFRESH-INTERVAL;VALUE=DURATION:PT1H
X-Robots-Tag:noindex
X-PUBLISHED-TTL:PT1H
BEGIN:VTIMEZONE
TZID:America/Los_Angeles
BEGIN:DAYLIGHT
TZOFFSETFROM:-0800
TZOFFSETTO:-0700
TZNAME:PDT
DTSTART:20240310T100000
END:DAYLIGHT
BEGIN:STANDARD
TZOFFSETFROM:-0700
TZOFFSETTO:-0800
TZNAME:PST
DTSTART:20241103T090000
END:STANDARD
BEGIN:DAYLIGHT
TZOFFSETFROM:-0800
TZOFFSETTO:-0700
TZNAME:PDT
DTSTART:20250309T100000
END:DAYLIGHT
BEGIN:STANDARD
TZOFFSETFROM:-0700
TZOFFSETTO:-0800
TZNAME:PST
DTSTART:20251102T090000
END:STANDARD
END:VTIMEZONE
BEGIN:VEVENT
DTSTART;TZID=America/Los_Angeles:20240908T090000
DTEND;TZID=America/Los_Angeles:20240908T130000
DTSTAMP:20260425T031901
CREATED:20220310T005257Z
LAST-MODIFIED:20230222T233850Z
UID:10001056-1725786000-1725800400@nextgen.dec4u.org
SUMMARY:Toddlers Sunday
DESCRIPTION:Toddlers (Preschool – K) are invited to join us for worship @9:00AM or @11:30AM in classroom 304. Services are in-person only.
URL:https://nextgen.dec4u.org/event/toddler-in-person-sunday/2024-09-08/
LOCATION:Dynamic Evangelism Church\, 19360 Colima Rd\, Rowland Heights\, CA\, 91748\, United States
CATEGORIES:Toddler
END:VEVENT
BEGIN:VEVENT
DTSTART;TZID=America/Los_Angeles:20240915T090000
DTEND;TZID=America/Los_Angeles:20240915T130000
DTSTAMP:20260425T031901
CREATED:20220310T005257Z
LAST-MODIFIED:20230222T233850Z
UID:10001057-1726390800-1726405200@nextgen.dec4u.org
SUMMARY:Toddlers Sunday
DESCRIPTION:Toddlers (Preschool – K) are invited to join us for worship @9:00AM or @11:30AM in classroom 304. Services are in-person only.
URL:https://nextgen.dec4u.org/event/toddler-in-person-sunday/2024-09-15/
LOCATION:Dynamic Evangelism Church\, 19360 Colima Rd\, Rowland Heights\, CA\, 91748\, United States
CATEGORIES:Toddler
END:VEVENT
BEGIN:VEVENT
DTSTART;TZID=America/Los_Angeles:20240922T090000
DTEND;TZID=America/Los_Angeles:20240922T130000
DTSTAMP:20260425T031901
CREATED:20220310T005257Z
LAST-MODIFIED:20230222T233850Z
UID:10001058-1726995600-1727010000@nextgen.dec4u.org
SUMMARY:Toddlers Sunday
DESCRIPTION:Toddlers (Preschool – K) are invited to join us for worship @9:00AM or @11:30AM in classroom 304. Services are in-person only.
URL:https://nextgen.dec4u.org/event/toddler-in-person-sunday/2024-09-22/
LOCATION:Dynamic Evangelism Church\, 19360 Colima Rd\, Rowland Heights\, CA\, 91748\, United States
CATEGORIES:Toddler
END:VEVENT
BEGIN:VEVENT
DTSTART;TZID=America/Los_Angeles:20240929T090000
DTEND;TZID=America/Los_Angeles:20240929T130000
DTSTAMP:20260425T031901
CREATED:20220310T005257Z
LAST-MODIFIED:20230222T233850Z
UID:10001059-1727600400-1727614800@nextgen.dec4u.org
SUMMARY:Toddlers Sunday
DESCRIPTION:Toddlers (Preschool – K) are invited to join us for worship @9:00AM or @11:30AM in classroom 304. Services are in-person only.
URL:https://nextgen.dec4u.org/event/toddler-in-person-sunday/2024-09-29/
LOCATION:Dynamic Evangelism Church\, 19360 Colima Rd\, Rowland Heights\, CA\, 91748\, United States
CATEGORIES:Toddler
END:VEVENT
BEGIN:VEVENT
DTSTART;TZID=America/Los_Angeles:20241006T090000
DTEND;TZID=America/Los_Angeles:20241006T130000
DTSTAMP:20260425T031901
CREATED:20220310T005257Z
LAST-MODIFIED:20230222T233850Z
UID:10001060-1728205200-1728219600@nextgen.dec4u.org
SUMMARY:Toddlers Sunday
DESCRIPTION:Toddlers (Preschool – K) are invited to join us for worship @9:00AM or @11:30AM in classroom 304. Services are in-person only.
URL:https://nextgen.dec4u.org/event/toddler-in-person-sunday/2024-10-06/
LOCATION:Dynamic Evangelism Church\, 19360 Colima Rd\, Rowland Heights\, CA\, 91748\, United States
CATEGORIES:Toddler
END:VEVENT
BEGIN:VEVENT
DTSTART;TZID=America/Los_Angeles:20241013T090000
DTEND;TZID=America/Los_Angeles:20241013T130000
DTSTAMP:20260425T031901
CREATED:20220310T005257Z
LAST-MODIFIED:20230222T233850Z
UID:10001061-1728810000-1728824400@nextgen.dec4u.org
SUMMARY:Toddlers Sunday
DESCRIPTION:Toddlers (Preschool – K) are invited to join us for worship @9:00AM or @11:30AM in classroom 304. Services are in-person only.
URL:https://nextgen.dec4u.org/event/toddler-in-person-sunday/2024-10-13/
LOCATION:Dynamic Evangelism Church\, 19360 Colima Rd\, Rowland Heights\, CA\, 91748\, United States
CATEGORIES:Toddler
END:VEVENT
BEGIN:VEVENT
DTSTART;TZID=America/Los_Angeles:20241020T090000
DTEND;TZID=America/Los_Angeles:20241020T130000
DTSTAMP:20260425T031901
CREATED:20220310T005257Z
LAST-MODIFIED:20230222T233850Z
UID:10001062-1729414800-1729429200@nextgen.dec4u.org
SUMMARY:Toddlers Sunday
DESCRIPTION:Toddlers (Preschool – K) are invited to join us for worship @9:00AM or @11:30AM in classroom 304. Services are in-person only.
URL:https://nextgen.dec4u.org/event/toddler-in-person-sunday/2024-10-20/
LOCATION:Dynamic Evangelism Church\, 19360 Colima Rd\, Rowland Heights\, CA\, 91748\, United States
CATEGORIES:Toddler
END:VEVENT
BEGIN:VEVENT
DTSTART;TZID=America/Los_Angeles:20241027T090000
DTEND;TZID=America/Los_Angeles:20241027T130000
DTSTAMP:20260425T031901
CREATED:20220310T005257Z
LAST-MODIFIED:20230222T233850Z
UID:10001063-1730019600-1730034000@nextgen.dec4u.org
SUMMARY:Toddlers Sunday
DESCRIPTION:Toddlers (Preschool – K) are invited to join us for worship @9:00AM or @11:30AM in classroom 304. Services are in-person only.
URL:https://nextgen.dec4u.org/event/toddler-in-person-sunday/2024-10-27/
LOCATION:Dynamic Evangelism Church\, 19360 Colima Rd\, Rowland Heights\, CA\, 91748\, United States
CATEGORIES:Toddler
END:VEVENT
BEGIN:VEVENT
DTSTART;TZID=America/Los_Angeles:20241103T090000
DTEND;TZID=America/Los_Angeles:20241103T130000
DTSTAMP:20260425T031901
CREATED:20220310T005257Z
LAST-MODIFIED:20230222T233850Z
UID:10001064-1730624400-1730638800@nextgen.dec4u.org
SUMMARY:Toddlers Sunday
DESCRIPTION:Toddlers (Preschool – K) are invited to join us for worship @9:00AM or @11:30AM in classroom 304. Services are in-person only.
URL:https://nextgen.dec4u.org/event/toddler-in-person-sunday/2024-11-03/
LOCATION:Dynamic Evangelism Church\, 19360 Colima Rd\, Rowland Heights\, CA\, 91748\, United States
CATEGORIES:Toddler
END:VEVENT
BEGIN:VEVENT
DTSTART;TZID=America/Los_Angeles:20241110T090000
DTEND;TZID=America/Los_Angeles:20241110T130000
DTSTAMP:20260425T031901
CREATED:20220310T005257Z
LAST-MODIFIED:20230222T233850Z
UID:10001065-1731229200-1731243600@nextgen.dec4u.org
SUMMARY:Toddlers Sunday
DESCRIPTION:Toddlers (Preschool – K) are invited to join us for worship @9:00AM or @11:30AM in classroom 304. Services are in-person only.
URL:https://nextgen.dec4u.org/event/toddler-in-person-sunday/2024-11-10/
LOCATION:Dynamic Evangelism Church\, 19360 Colima Rd\, Rowland Heights\, CA\, 91748\, United States
CATEGORIES:Toddler
END:VEVENT
BEGIN:VEVENT
DTSTART;TZID=America/Los_Angeles:20241117T090000
DTEND;TZID=America/Los_Angeles:20241117T130000
DTSTAMP:20260425T031901
CREATED:20220310T005257Z
LAST-MODIFIED:20230222T233850Z
UID:10001066-1731834000-1731848400@nextgen.dec4u.org
SUMMARY:Toddlers Sunday
DESCRIPTION:Toddlers (Preschool – K) are invited to join us for worship @9:00AM or @11:30AM in classroom 304. Services are in-person only.
URL:https://nextgen.dec4u.org/event/toddler-in-person-sunday/2024-11-17/
LOCATION:Dynamic Evangelism Church\, 19360 Colima Rd\, Rowland Heights\, CA\, 91748\, United States
CATEGORIES:Toddler
END:VEVENT
BEGIN:VEVENT
DTSTART;TZID=America/Los_Angeles:20241124T090000
DTEND;TZID=America/Los_Angeles:20241124T130000
DTSTAMP:20260425T031901
CREATED:20220310T005257Z
LAST-MODIFIED:20230222T233850Z
UID:10001067-1732438800-1732453200@nextgen.dec4u.org
SUMMARY:Toddlers Sunday
DESCRIPTION:Toddlers (Preschool – K) are invited to join us for worship @9:00AM or @11:30AM in classroom 304. Services are in-person only.
URL:https://nextgen.dec4u.org/event/toddler-in-person-sunday/2024-11-24/
LOCATION:Dynamic Evangelism Church\, 19360 Colima Rd\, Rowland Heights\, CA\, 91748\, United States
CATEGORIES:Toddler
END:VEVENT
BEGIN:VEVENT
DTSTART;TZID=America/Los_Angeles:20241201T090000
DTEND;TZID=America/Los_Angeles:20241201T130000
DTSTAMP:20260425T031901
CREATED:20220310T005257Z
LAST-MODIFIED:20230222T233850Z
UID:10001068-1733043600-1733058000@nextgen.dec4u.org
SUMMARY:Toddlers Sunday
DESCRIPTION:Toddlers (Preschool – K) are invited to join us for worship @9:00AM or @11:30AM in classroom 304. Services are in-person only.
URL:https://nextgen.dec4u.org/event/toddler-in-person-sunday/2024-12-01/
LOCATION:Dynamic Evangelism Church\, 19360 Colima Rd\, Rowland Heights\, CA\, 91748\, United States
CATEGORIES:Toddler
END:VEVENT
BEGIN:VEVENT
DTSTART;TZID=America/Los_Angeles:20241208T090000
DTEND;TZID=America/Los_Angeles:20241208T130000
DTSTAMP:20260425T031901
CREATED:20220310T005257Z
LAST-MODIFIED:20230222T233850Z
UID:10001069-1733648400-1733662800@nextgen.dec4u.org
SUMMARY:Toddlers Sunday
DESCRIPTION:Toddlers (Preschool – K) are invited to join us for worship @9:00AM or @11:30AM in classroom 304. Services are in-person only.
URL:https://nextgen.dec4u.org/event/toddler-in-person-sunday/2024-12-08/
LOCATION:Dynamic Evangelism Church\, 19360 Colima Rd\, Rowland Heights\, CA\, 91748\, United States
CATEGORIES:Toddler
END:VEVENT
BEGIN:VEVENT
DTSTART;TZID=America/Los_Angeles:20241215T090000
DTEND;TZID=America/Los_Angeles:20241215T130000
DTSTAMP:20260425T031901
CREATED:20220310T005257Z
LAST-MODIFIED:20230222T233850Z
UID:10001070-1734253200-1734267600@nextgen.dec4u.org
SUMMARY:Toddlers Sunday
DESCRIPTION:Toddlers (Preschool – K) are invited to join us for worship @9:00AM or @11:30AM in classroom 304. Services are in-person only.
URL:https://nextgen.dec4u.org/event/toddler-in-person-sunday/2024-12-15/
LOCATION:Dynamic Evangelism Church\, 19360 Colima Rd\, Rowland Heights\, CA\, 91748\, United States
CATEGORIES:Toddler
END:VEVENT
BEGIN:VEVENT
DTSTART;TZID=America/Los_Angeles:20241222T090000
DTEND;TZID=America/Los_Angeles:20241222T130000
DTSTAMP:20260425T031901
CREATED:20220310T005257Z
LAST-MODIFIED:20230222T233850Z
UID:10001071-1734858000-1734872400@nextgen.dec4u.org
SUMMARY:Toddlers Sunday
DESCRIPTION:Toddlers (Preschool – K) are invited to join us for worship @9:00AM or @11:30AM in classroom 304. Services are in-person only.
URL:https://nextgen.dec4u.org/event/toddler-in-person-sunday/2024-12-22/
LOCATION:Dynamic Evangelism Church\, 19360 Colima Rd\, Rowland Heights\, CA\, 91748\, United States
CATEGORIES:Toddler
END:VEVENT
BEGIN:VEVENT
DTSTART;TZID=America/Los_Angeles:20241229T090000
DTEND;TZID=America/Los_Angeles:20241229T130000
DTSTAMP:20260425T031901
CREATED:20220310T005257Z
LAST-MODIFIED:20230222T233850Z
UID:10001072-1735462800-1735477200@nextgen.dec4u.org
SUMMARY:Toddlers Sunday
DESCRIPTION:Toddlers (Preschool – K) are invited to join us for worship @9:00AM or @11:30AM in classroom 304. Services are in-person only.
URL:https://nextgen.dec4u.org/event/toddler-in-person-sunday/2024-12-29/
LOCATION:Dynamic Evangelism Church\, 19360 Colima Rd\, Rowland Heights\, CA\, 91748\, United States
CATEGORIES:Toddler
END:VEVENT
BEGIN:VEVENT
DTSTART;TZID=America/Los_Angeles:20250105T090000
DTEND;TZID=America/Los_Angeles:20250105T130000
DTSTAMP:20260425T031901
CREATED:20220310T005257Z
LAST-MODIFIED:20230222T233850Z
UID:10001073-1736067600-1736082000@nextgen.dec4u.org
SUMMARY:Toddlers Sunday
DESCRIPTION:Toddlers (Preschool – K) are invited to join us for worship @9:00AM or @11:30AM in classroom 304. Services are in-person only.
URL:https://nextgen.dec4u.org/event/toddler-in-person-sunday/2025-01-05/
LOCATION:Dynamic Evangelism Church\, 19360 Colima Rd\, Rowland Heights\, CA\, 91748\, United States
CATEGORIES:Toddler
END:VEVENT
BEGIN:VEVENT
DTSTART;TZID=America/Los_Angeles:20250112T090000
DTEND;TZID=America/Los_Angeles:20250112T130000
DTSTAMP:20260425T031901
CREATED:20220310T005257Z
LAST-MODIFIED:20230222T233850Z
UID:10001074-1736672400-1736686800@nextgen.dec4u.org
SUMMARY:Toddlers Sunday
DESCRIPTION:Toddlers (Preschool – K) are invited to join us for worship @9:00AM or @11:30AM in classroom 304. Services are in-person only.
URL:https://nextgen.dec4u.org/event/toddler-in-person-sunday/2025-01-12/
LOCATION:Dynamic Evangelism Church\, 19360 Colima Rd\, Rowland Heights\, CA\, 91748\, United States
CATEGORIES:Toddler
END:VEVENT
BEGIN:VEVENT
DTSTART;TZID=America/Los_Angeles:20250119T090000
DTEND;TZID=America/Los_Angeles:20250119T130000
DTSTAMP:20260425T031901
CREATED:20220310T005257Z
LAST-MODIFIED:20230222T233850Z
UID:10001075-1737277200-1737291600@nextgen.dec4u.org
SUMMARY:Toddlers Sunday
DESCRIPTION:Toddlers (Preschool – K) are invited to join us for worship @9:00AM or @11:30AM in classroom 304. Services are in-person only.
URL:https://nextgen.dec4u.org/event/toddler-in-person-sunday/2025-01-19/
LOCATION:Dynamic Evangelism Church\, 19360 Colima Rd\, Rowland Heights\, CA\, 91748\, United States
CATEGORIES:Toddler
END:VEVENT
BEGIN:VEVENT
DTSTART;TZID=America/Los_Angeles:20250126T090000
DTEND;TZID=America/Los_Angeles:20250126T130000
DTSTAMP:20260425T031901
CREATED:20220310T005257Z
LAST-MODIFIED:20230222T233850Z
UID:10001076-1737882000-1737896400@nextgen.dec4u.org
SUMMARY:Toddlers Sunday
DESCRIPTION:Toddlers (Preschool – K) are invited to join us for worship @9:00AM or @11:30AM in classroom 304. Services are in-person only.
URL:https://nextgen.dec4u.org/event/toddler-in-person-sunday/2025-01-26/
LOCATION:Dynamic Evangelism Church\, 19360 Colima Rd\, Rowland Heights\, CA\, 91748\, United States
CATEGORIES:Toddler
END:VEVENT
BEGIN:VEVENT
DTSTART;TZID=America/Los_Angeles:20250202T090000
DTEND;TZID=America/Los_Angeles:20250202T130000
DTSTAMP:20260425T031901
CREATED:20220310T005257Z
LAST-MODIFIED:20230222T233850Z
UID:10001077-1738486800-1738501200@nextgen.dec4u.org
SUMMARY:Toddlers Sunday
DESCRIPTION:Toddlers (Preschool – K) are invited to join us for worship @9:00AM or @11:30AM in classroom 304. Services are in-person only.
URL:https://nextgen.dec4u.org/event/toddler-in-person-sunday/2025-02-02/
LOCATION:Dynamic Evangelism Church\, 19360 Colima Rd\, Rowland Heights\, CA\, 91748\, United States
CATEGORIES:Toddler
END:VEVENT
BEGIN:VEVENT
DTSTART;TZID=America/Los_Angeles:20250209T090000
DTEND;TZID=America/Los_Angeles:20250209T130000
DTSTAMP:20260425T031901
CREATED:20220310T005257Z
LAST-MODIFIED:20230222T233850Z
UID:10001078-1739091600-1739106000@nextgen.dec4u.org
SUMMARY:Toddlers Sunday
DESCRIPTION:Toddlers (Preschool – K) are invited to join us for worship @9:00AM or @11:30AM in classroom 304. Services are in-person only.
URL:https://nextgen.dec4u.org/event/toddler-in-person-sunday/2025-02-09/
LOCATION:Dynamic Evangelism Church\, 19360 Colima Rd\, Rowland Heights\, CA\, 91748\, United States
CATEGORIES:Toddler
END:VEVENT
BEGIN:VEVENT
DTSTART;TZID=America/Los_Angeles:20250216T090000
DTEND;TZID=America/Los_Angeles:20250216T130000
DTSTAMP:20260425T031901
CREATED:20220310T005257Z
LAST-MODIFIED:20230222T233850Z
UID:10001079-1739696400-1739710800@nextgen.dec4u.org
SUMMARY:Toddlers Sunday
DESCRIPTION:Toddlers (Preschool – K) are invited to join us for worship @9:00AM or @11:30AM in classroom 304. Services are in-person only.
URL:https://nextgen.dec4u.org/event/toddler-in-person-sunday/2025-02-16/
LOCATION:Dynamic Evangelism Church\, 19360 Colima Rd\, Rowland Heights\, CA\, 91748\, United States
CATEGORIES:Toddler
END:VEVENT
BEGIN:VEVENT
DTSTART;TZID=America/Los_Angeles:20250223T090000
DTEND;TZID=America/Los_Angeles:20250223T130000
DTSTAMP:20260425T031901
CREATED:20220310T005257Z
LAST-MODIFIED:20230222T233850Z
UID:10001080-1740301200-1740315600@nextgen.dec4u.org
SUMMARY:Toddlers Sunday
DESCRIPTION:Toddlers (Preschool – K) are invited to join us for worship @9:00AM or @11:30AM in classroom 304. Services are in-person only.
URL:https://nextgen.dec4u.org/event/toddler-in-person-sunday/2025-02-23/
LOCATION:Dynamic Evangelism Church\, 19360 Colima Rd\, Rowland Heights\, CA\, 91748\, United States
CATEGORIES:Toddler
END:VEVENT
BEGIN:VEVENT
DTSTART;TZID=America/Los_Angeles:20250302T090000
DTEND;TZID=America/Los_Angeles:20250302T130000
DTSTAMP:20260425T031901
CREATED:20220310T005257Z
LAST-MODIFIED:20230222T233850Z
UID:10001081-1740906000-1740920400@nextgen.dec4u.org
SUMMARY:Toddlers Sunday
DESCRIPTION:Toddlers (Preschool – K) are invited to join us for worship @9:00AM or @11:30AM in classroom 304. Services are in-person only.
URL:https://nextgen.dec4u.org/event/toddler-in-person-sunday/2025-03-02/
LOCATION:Dynamic Evangelism Church\, 19360 Colima Rd\, Rowland Heights\, CA\, 91748\, United States
CATEGORIES:Toddler
END:VEVENT
BEGIN:VEVENT
DTSTART;TZID=America/Los_Angeles:20250309T090000
DTEND;TZID=America/Los_Angeles:20250309T130000
DTSTAMP:20260425T031901
CREATED:20220310T005257Z
LAST-MODIFIED:20230222T233850Z
UID:10001082-1741510800-1741525200@nextgen.dec4u.org
SUMMARY:Toddlers Sunday
DESCRIPTION:Toddlers (Preschool – K) are invited to join us for worship @9:00AM or @11:30AM in classroom 304. Services are in-person only.
URL:https://nextgen.dec4u.org/event/toddler-in-person-sunday/2025-03-09/
LOCATION:Dynamic Evangelism Church\, 19360 Colima Rd\, Rowland Heights\, CA\, 91748\, United States
CATEGORIES:Toddler
END:VEVENT
BEGIN:VEVENT
DTSTART;TZID=America/Los_Angeles:20250316T090000
DTEND;TZID=America/Los_Angeles:20250316T130000
DTSTAMP:20260425T031901
CREATED:20220310T005257Z
LAST-MODIFIED:20230222T233850Z
UID:10001083-1742115600-1742130000@nextgen.dec4u.org
SUMMARY:Toddlers Sunday
DESCRIPTION:Toddlers (Preschool – K) are invited to join us for worship @9:00AM or @11:30AM in classroom 304. Services are in-person only.
URL:https://nextgen.dec4u.org/event/toddler-in-person-sunday/2025-03-16/
LOCATION:Dynamic Evangelism Church\, 19360 Colima Rd\, Rowland Heights\, CA\, 91748\, United States
CATEGORIES:Toddler
END:VEVENT
BEGIN:VEVENT
DTSTART;TZID=America/Los_Angeles:20250323T090000
DTEND;TZID=America/Los_Angeles:20250323T130000
DTSTAMP:20260425T031901
CREATED:20220310T005257Z
LAST-MODIFIED:20230222T233850Z
UID:10001084-1742720400-1742734800@nextgen.dec4u.org
SUMMARY:Toddlers Sunday
DESCRIPTION:Toddlers (Preschool – K) are invited to join us for worship @9:00AM or @11:30AM in classroom 304. Services are in-person only.
URL:https://nextgen.dec4u.org/event/toddler-in-person-sunday/2025-03-23/
LOCATION:Dynamic Evangelism Church\, 19360 Colima Rd\, Rowland Heights\, CA\, 91748\, United States
CATEGORIES:Toddler
END:VEVENT
BEGIN:VEVENT
DTSTART;TZID=America/Los_Angeles:20250330T090000
DTEND;TZID=America/Los_Angeles:20250330T130000
DTSTAMP:20260425T031901
CREATED:20220310T005257Z
LAST-MODIFIED:20230222T233850Z
UID:10001085-1743325200-1743339600@nextgen.dec4u.org
SUMMARY:Toddlers Sunday
DESCRIPTION:Toddlers (Preschool – K) are invited to join us for worship @9:00AM or @11:30AM in classroom 304. Services are in-person only.
URL:https://nextgen.dec4u.org/event/toddler-in-person-sunday/2025-03-30/
LOCATION:Dynamic Evangelism Church\, 19360 Colima Rd\, Rowland Heights\, CA\, 91748\, United States
CATEGORIES:Toddler
END:VEVENT
END:VCALENDAR