BEGIN:VCALENDAR
VERSION:2.0
PRODID:-//DEC Youth Ministry - ECPv6.0.9//NONSGML v1.0//EN
CALSCALE:GREGORIAN
METHOD:PUBLISH
X-WR-CALNAME:DEC Youth Ministry
X-ORIGINAL-URL:https://nextgen.dec4u.org
X-WR-CALDESC:Events for DEC Youth Ministry
REFRESH-INTERVAL;VALUE=DURATION:PT1H
X-Robots-Tag:noindex
X-PUBLISHED-TTL:PT1H
BEGIN:VTIMEZONE
TZID:America/Los_Angeles
BEGIN:DAYLIGHT
TZOFFSETFROM:-0800
TZOFFSETTO:-0700
TZNAME:PDT
DTSTART:20230312T100000
END:DAYLIGHT
BEGIN:STANDARD
TZOFFSETFROM:-0700
TZOFFSETTO:-0800
TZNAME:PST
DTSTART:20231105T090000
END:STANDARD
END:VTIMEZONE
BEGIN:VEVENT
DTSTART;TZID=America/Los_Angeles:20231112T080000
DTEND;TZID=America/Los_Angeles:20231112T170000
DTSTAMP:20260420T062936
CREATED:20230217T185701Z
LAST-MODIFIED:20230217T190315Z
UID:10000024-1699776000-1699808400@nextgen.dec4u.org
SUMMARY:Shoe Box Packing
DESCRIPTION:
URL:https://nextgen.dec4u.org/event/shoe-box-packing/
LOCATION:CA
CATEGORIES:Children,Toddler,Youth
ORGANIZER;CN="Dynamic%20Evangelism%20Church":MAILTO:office@dec4u.org
END:VEVENT
BEGIN:VEVENT
DTSTART;TZID=America/Los_Angeles:20231105T113000
DTEND;TZID=America/Los_Angeles:20231105T130000
DTSTAMP:20260420T062936
CREATED:20230607T222202Z
LAST-MODIFIED:20230607T222202Z
UID:10003466-1699183800-1699189200@nextgen.dec4u.org
SUMMARY:Youth Sunday
DESCRIPTION:
URL:https://nextgen.dec4u.org/event/youth-sunday-service-2/2023-11-05/
LOCATION:Dynamic Evangelism Church\, 19360 Colima Rd\, Rowland Heights\, CA\, 91748\, United States
CATEGORIES:Youth
END:VEVENT
BEGIN:VEVENT
DTSTART;TZID=America/Los_Angeles:20231029T113000
DTEND;TZID=America/Los_Angeles:20231029T130000
DTSTAMP:20260420T062936
CREATED:20230607T222202Z
LAST-MODIFIED:20230607T222202Z
UID:10003465-1698579000-1698584400@nextgen.dec4u.org
SUMMARY:Youth Sunday
DESCRIPTION:
URL:https://nextgen.dec4u.org/event/youth-sunday-service-2/2023-10-29/
LOCATION:Dynamic Evangelism Church\, 19360 Colima Rd\, Rowland Heights\, CA\, 91748\, United States
CATEGORIES:Youth
END:VEVENT
BEGIN:VEVENT
DTSTART;TZID=America/Los_Angeles:20231027T190000
DTEND;TZID=America/Los_Angeles:20231027T213000
DTSTAMP:20260420T062936
CREATED:20230217T185605Z
LAST-MODIFIED:20230217T185605Z
UID:10000023-1698433200-1698442200@nextgen.dec4u.org
SUMMARY:Harvest Party
DESCRIPTION:
URL:https://nextgen.dec4u.org/event/harvest-party/
LOCATION:Dynamic Evangelism Church\, 19360 Colima Rd\, Rowland Heights\, CA\, 91748\, United States
CATEGORIES:Children,Toddler,Youth
END:VEVENT
BEGIN:VEVENT
DTSTART;TZID=America/Los_Angeles:20231022T113000
DTEND;TZID=America/Los_Angeles:20231022T130000
DTSTAMP:20260420T062936
CREATED:20230607T222202Z
LAST-MODIFIED:20230607T222202Z
UID:10003464-1697974200-1697979600@nextgen.dec4u.org
SUMMARY:Youth Sunday
DESCRIPTION:
URL:https://nextgen.dec4u.org/event/youth-sunday-service-2/2023-10-22/
LOCATION:Dynamic Evangelism Church\, 19360 Colima Rd\, Rowland Heights\, CA\, 91748\, United States
CATEGORIES:Youth
END:VEVENT
BEGIN:VEVENT
DTSTART;TZID=America/Los_Angeles:20231015T113000
DTEND;TZID=America/Los_Angeles:20231015T130000
DTSTAMP:20260420T062936
CREATED:20230607T222202Z
LAST-MODIFIED:20230607T222202Z
UID:10003463-1697369400-1697374800@nextgen.dec4u.org
SUMMARY:Youth Sunday
DESCRIPTION:
URL:https://nextgen.dec4u.org/event/youth-sunday-service-2/2023-10-15/
LOCATION:Dynamic Evangelism Church\, 19360 Colima Rd\, Rowland Heights\, CA\, 91748\, United States
CATEGORIES:Youth
END:VEVENT
BEGIN:VEVENT
DTSTART;TZID=America/Los_Angeles:20231008T113000
DTEND;TZID=America/Los_Angeles:20231008T130000
DTSTAMP:20260420T062936
CREATED:20230607T222202Z
LAST-MODIFIED:20230607T222202Z
UID:10003462-1696764600-1696770000@nextgen.dec4u.org
SUMMARY:Youth Sunday
DESCRIPTION:
URL:https://nextgen.dec4u.org/event/youth-sunday-service-2/2023-10-08/
LOCATION:Dynamic Evangelism Church\, 19360 Colima Rd\, Rowland Heights\, CA\, 91748\, United States
CATEGORIES:Youth
END:VEVENT
BEGIN:VEVENT
DTSTART;TZID=America/Los_Angeles:20231001T113000
DTEND;TZID=America/Los_Angeles:20231001T130000
DTSTAMP:20260420T062936
CREATED:20230607T222202Z
LAST-MODIFIED:20230607T222202Z
UID:10003461-1696159800-1696165200@nextgen.dec4u.org
SUMMARY:Youth Sunday
DESCRIPTION:
URL:https://nextgen.dec4u.org/event/youth-sunday-service-2/2023-10-01/
LOCATION:Dynamic Evangelism Church\, 19360 Colima Rd\, Rowland Heights\, CA\, 91748\, United States
CATEGORIES:Youth
END:VEVENT
BEGIN:VEVENT
DTSTART;TZID=America/Los_Angeles:20230924T113000
DTEND;TZID=America/Los_Angeles:20230924T130000
DTSTAMP:20260420T062936
CREATED:20230607T222202Z
LAST-MODIFIED:20230607T222202Z
UID:10003460-1695555000-1695560400@nextgen.dec4u.org
SUMMARY:Youth Sunday
DESCRIPTION:
URL:https://nextgen.dec4u.org/event/youth-sunday-service-2/2023-09-24/
LOCATION:Dynamic Evangelism Church\, 19360 Colima Rd\, Rowland Heights\, CA\, 91748\, United States
CATEGORIES:Youth
END:VEVENT
BEGIN:VEVENT
DTSTART;TZID=America/Los_Angeles:20230917T113000
DTEND;TZID=America/Los_Angeles:20230917T130000
DTSTAMP:20260420T062936
CREATED:20230607T222202Z
LAST-MODIFIED:20230607T222202Z
UID:10003459-1694950200-1694955600@nextgen.dec4u.org
SUMMARY:Youth Sunday
DESCRIPTION:
URL:https://nextgen.dec4u.org/event/youth-sunday-service-2/2023-09-17/
LOCATION:Dynamic Evangelism Church\, 19360 Colima Rd\, Rowland Heights\, CA\, 91748\, United States
CATEGORIES:Youth
END:VEVENT
BEGIN:VEVENT
DTSTART;TZID=America/Los_Angeles:20230910T113000
DTEND;TZID=America/Los_Angeles:20230910T130000
DTSTAMP:20260420T062936
CREATED:20230607T222202Z
LAST-MODIFIED:20230607T222202Z
UID:10003458-1694345400-1694350800@nextgen.dec4u.org
SUMMARY:Youth Sunday
DESCRIPTION:
URL:https://nextgen.dec4u.org/event/youth-sunday-service-2/2023-09-10/
LOCATION:Dynamic Evangelism Church\, 19360 Colima Rd\, Rowland Heights\, CA\, 91748\, United States
CATEGORIES:Youth
END:VEVENT
BEGIN:VEVENT
DTSTART;TZID=America/Los_Angeles:20230903T113000
DTEND;TZID=America/Los_Angeles:20230903T130000
DTSTAMP:20260420T062936
CREATED:20230607T222202Z
LAST-MODIFIED:20230607T222202Z
UID:10003457-1693740600-1693746000@nextgen.dec4u.org
SUMMARY:Youth Sunday
DESCRIPTION:
URL:https://nextgen.dec4u.org/event/youth-sunday-service-2/2023-09-03/
LOCATION:Dynamic Evangelism Church\, 19360 Colima Rd\, Rowland Heights\, CA\, 91748\, United States
CATEGORIES:Youth
END:VEVENT
BEGIN:VEVENT
DTSTART;TZID=America/Los_Angeles:20230825T163000
DTEND;TZID=America/Los_Angeles:20230827T153000
DTSTAMP:20260420T062936
CREATED:20230602T233320Z
LAST-MODIFIED:20230607T221618Z
UID:10003719-1692981000-1693150200@nextgen.dec4u.org
SUMMARY:Youth Retreat
DESCRIPTION:More Info & Sign Up: https://docs.google.com/forms/d/e/1FAIpQLSe8J8i115irjAZ93ccDTcP96tSjli5-KKHjiPkEWzsgvfYb-Q/viewform
URL:https://nextgen.dec4u.org/event/youth-retreat-2/
LOCATION:Angeles Crest Christian Camp\, Angeles Crest Christian Camp
CATEGORIES:Youth
ATTACH;FMTTYPE=image/jpeg:https://nextgen.dec4u.org/wp-content/uploads/2023/06/8.jpg
END:VEVENT
BEGIN:VEVENT
DTSTART;TZID=America/Los_Angeles:20230820T113000
DTEND;TZID=America/Los_Angeles:20230820T130000
DTSTAMP:20260420T062936
CREATED:20230607T222202Z
LAST-MODIFIED:20230607T222202Z
UID:10003455-1692531000-1692536400@nextgen.dec4u.org
SUMMARY:Youth Sunday
DESCRIPTION:
URL:https://nextgen.dec4u.org/event/youth-sunday-service-2/2023-08-20/
LOCATION:Dynamic Evangelism Church\, 19360 Colima Rd\, Rowland Heights\, CA\, 91748\, United States
CATEGORIES:Youth
END:VEVENT
BEGIN:VEVENT
DTSTART;TZID=America/Los_Angeles:20230813T113000
DTEND;TZID=America/Los_Angeles:20230813T130000
DTSTAMP:20260420T062936
CREATED:20230607T222202Z
LAST-MODIFIED:20230607T222202Z
UID:10003454-1691926200-1691931600@nextgen.dec4u.org
SUMMARY:Youth Sunday
DESCRIPTION:
URL:https://nextgen.dec4u.org/event/youth-sunday-service-2/2023-08-13/
LOCATION:Dynamic Evangelism Church\, 19360 Colima Rd\, Rowland Heights\, CA\, 91748\, United States
CATEGORIES:Youth
END:VEVENT
BEGIN:VEVENT
DTSTART;TZID=America/Los_Angeles:20230806T113000
DTEND;TZID=America/Los_Angeles:20230806T130000
DTSTAMP:20260420T062936
CREATED:20230607T222202Z
LAST-MODIFIED:20230607T222202Z
UID:10003453-1691321400-1691326800@nextgen.dec4u.org
SUMMARY:Youth Sunday
DESCRIPTION:
URL:https://nextgen.dec4u.org/event/youth-sunday-service-2/2023-08-06/
LOCATION:Dynamic Evangelism Church\, 19360 Colima Rd\, Rowland Heights\, CA\, 91748\, United States
CATEGORIES:Youth
END:VEVENT
BEGIN:VEVENT
DTSTART;TZID=America/Los_Angeles:20230730T113000
DTEND;TZID=America/Los_Angeles:20230730T130000
DTSTAMP:20260420T062936
CREATED:20230607T222202Z
LAST-MODIFIED:20230607T222202Z
UID:10003452-1690716600-1690722000@nextgen.dec4u.org
SUMMARY:Youth Sunday
DESCRIPTION:
URL:https://nextgen.dec4u.org/event/youth-sunday-service-2/2023-07-30/
LOCATION:Dynamic Evangelism Church\, 19360 Colima Rd\, Rowland Heights\, CA\, 91748\, United States
CATEGORIES:Youth
END:VEVENT
BEGIN:VEVENT
DTSTART;TZID=America/Los_Angeles:20230723T113000
DTEND;TZID=America/Los_Angeles:20230723T130000
DTSTAMP:20260420T062936
CREATED:20230607T222202Z
LAST-MODIFIED:20230607T222202Z
UID:10003451-1690111800-1690117200@nextgen.dec4u.org
SUMMARY:Youth Sunday
DESCRIPTION:
URL:https://nextgen.dec4u.org/event/youth-sunday-service-2/2023-07-23/
LOCATION:Dynamic Evangelism Church\, 19360 Colima Rd\, Rowland Heights\, CA\, 91748\, United States
CATEGORIES:Youth
END:VEVENT
BEGIN:VEVENT
DTSTART;TZID=America/Los_Angeles:20230716T113000
DTEND;TZID=America/Los_Angeles:20230716T130000
DTSTAMP:20260420T062936
CREATED:20230607T222202Z
LAST-MODIFIED:20230607T222202Z
UID:10003450-1689507000-1689512400@nextgen.dec4u.org
SUMMARY:Youth Sunday
DESCRIPTION:
URL:https://nextgen.dec4u.org/event/youth-sunday-service-2/2023-07-16/
LOCATION:Dynamic Evangelism Church\, 19360 Colima Rd\, Rowland Heights\, CA\, 91748\, United States
CATEGORIES:Youth
END:VEVENT
BEGIN:VEVENT
DTSTART;TZID=America/Los_Angeles:20230709T113000
DTEND;TZID=America/Los_Angeles:20230709T130000
DTSTAMP:20260420T062936
CREATED:20230607T222202Z
LAST-MODIFIED:20230607T222202Z
UID:10003449-1688902200-1688907600@nextgen.dec4u.org
SUMMARY:Youth Sunday
DESCRIPTION:
URL:https://nextgen.dec4u.org/event/youth-sunday-service-2/2023-07-09/
LOCATION:Dynamic Evangelism Church\, 19360 Colima Rd\, Rowland Heights\, CA\, 91748\, United States
CATEGORIES:Youth
END:VEVENT
BEGIN:VEVENT
DTSTART;TZID=America/Los_Angeles:20230702T113000
DTEND;TZID=America/Los_Angeles:20230702T130000
DTSTAMP:20260420T062936
CREATED:20230607T222202Z
LAST-MODIFIED:20230607T222202Z
UID:10003448-1688297400-1688302800@nextgen.dec4u.org
SUMMARY:Youth Sunday
DESCRIPTION:
URL:https://nextgen.dec4u.org/event/youth-sunday-service-2/2023-07-02/
LOCATION:Dynamic Evangelism Church\, 19360 Colima Rd\, Rowland Heights\, CA\, 91748\, United States
CATEGORIES:Youth
END:VEVENT
BEGIN:VEVENT
DTSTART;TZID=America/Los_Angeles:20230625T113000
DTEND;TZID=America/Los_Angeles:20230625T130000
DTSTAMP:20260420T062936
CREATED:20230607T222202Z
LAST-MODIFIED:20230607T222202Z
UID:10003447-1687692600-1687698000@nextgen.dec4u.org
SUMMARY:Youth Sunday
DESCRIPTION:
URL:https://nextgen.dec4u.org/event/youth-sunday-service-2/2023-06-25/
LOCATION:Dynamic Evangelism Church\, 19360 Colima Rd\, Rowland Heights\, CA\, 91748\, United States
CATEGORIES:Youth
END:VEVENT
BEGIN:VEVENT
DTSTART;TZID=America/Los_Angeles:20230618T113000
DTEND;TZID=America/Los_Angeles:20230618T130000
DTSTAMP:20260420T062936
CREATED:20230607T222202Z
LAST-MODIFIED:20230607T222202Z
UID:10003446-1687087800-1687093200@nextgen.dec4u.org
SUMMARY:Youth Sunday
DESCRIPTION:
URL:https://nextgen.dec4u.org/event/youth-sunday-service-2/2023-06-18/
LOCATION:Dynamic Evangelism Church\, 19360 Colima Rd\, Rowland Heights\, CA\, 91748\, United States
CATEGORIES:Youth
END:VEVENT
BEGIN:VEVENT
DTSTART;TZID=America/Los_Angeles:20230611T113000
DTEND;TZID=America/Los_Angeles:20230611T130000
DTSTAMP:20260420T062936
CREATED:20230607T222202Z
LAST-MODIFIED:20230607T222202Z
UID:10003445-1686483000-1686488400@nextgen.dec4u.org
SUMMARY:Youth Sunday
DESCRIPTION:
URL:https://nextgen.dec4u.org/event/youth-sunday-service-2/2023-06-11/
LOCATION:Dynamic Evangelism Church\, 19360 Colima Rd\, Rowland Heights\, CA\, 91748\, United States
CATEGORIES:Youth
END:VEVENT
BEGIN:VEVENT
DTSTART;VALUE=DATE:20230409
DTEND;VALUE=DATE:20230410
DTSTAMP:20260420T062936
CREATED:20230217T182812Z
LAST-MODIFIED:20230217T184839Z
UID:10000009-1680998400-1681084799@nextgen.dec4u.org
SUMMARY:Easter Sunday
DESCRIPTION:
URL:https://nextgen.dec4u.org/event/easter-sunday/
LOCATION:CA
CATEGORIES:Children,Toddler,Youth
END:VEVENT
BEGIN:VEVENT
DTSTART;TZID=America/Los_Angeles:20230401T100000
DTEND;TZID=America/Los_Angeles:20230401T130000
DTSTAMP:20260420T062936
CREATED:20230327T180326Z
LAST-MODIFIED:20230327T180326Z
UID:10003718-1680343200-1680354000@nextgen.dec4u.org
SUMMARY:Hiking Day
DESCRIPTION:
URL:https://nextgen.dec4u.org/event/hiking-day/
LOCATION:CA
CATEGORIES:Youth
END:VEVENT
BEGIN:VEVENT
DTSTART;TZID=America/Los_Angeles:20230303T193000
DTEND;TZID=America/Los_Angeles:20230303T210000
DTSTAMP:20260420T062936
CREATED:20230222T234049Z
LAST-MODIFIED:20230222T234049Z
UID:10003691-1677871800-1677877200@nextgen.dec4u.org
SUMMARY:Prayer Meeting
DESCRIPTION:
URL:https://nextgen.dec4u.org/event/prayer-meeting/
LOCATION:CA
CATEGORIES:Church,Youth
END:VEVENT
END:VCALENDAR