BEGIN:VCALENDAR
VERSION:2.0
PRODID:-//DEC Youth Ministry - ECPv6.0.9//NONSGML v1.0//EN
CALSCALE:GREGORIAN
METHOD:PUBLISH
X-WR-CALNAME:DEC Youth Ministry
X-ORIGINAL-URL:https://nextgen.dec4u.org
X-WR-CALDESC:Events for DEC Youth Ministry
REFRESH-INTERVAL;VALUE=DURATION:PT1H
X-Robots-Tag:noindex
X-PUBLISHED-TTL:PT1H
BEGIN:VTIMEZONE
TZID:America/Los_Angeles
BEGIN:DAYLIGHT
TZOFFSETFROM:-0800
TZOFFSETTO:-0700
TZNAME:PDT
DTSTART:20240310T100000
END:DAYLIGHT
BEGIN:STANDARD
TZOFFSETFROM:-0700
TZOFFSETTO:-0800
TZNAME:PST
DTSTART:20241103T090000
END:STANDARD
END:VTIMEZONE
BEGIN:VEVENT
DTSTART;TZID=America/Los_Angeles:20240107T113000
DTEND;TZID=America/Los_Angeles:20240107T130000
DTSTAMP:20260424T190527
CREATED:20230607T222202Z
LAST-MODIFIED:20230607T222202Z
UID:10003475-1704627000-1704632400@nextgen.dec4u.org
SUMMARY:Youth Sunday
DESCRIPTION:
URL:https://nextgen.dec4u.org/event/youth-sunday-service-2/2024-01-07/
LOCATION:Dynamic Evangelism Church\, 19360 Colima Rd\, Rowland Heights\, CA\, 91748\, United States
CATEGORIES:Youth
END:VEVENT
BEGIN:VEVENT
DTSTART;TZID=America/Los_Angeles:20240114T090000
DTEND;TZID=America/Los_Angeles:20240114T130000
DTSTAMP:20260424T190527
CREATED:20230222T231907Z
LAST-MODIFIED:20230222T234829Z
UID:10002852-1705222800-1705237200@nextgen.dec4u.org
SUMMARY:Children Sunday
DESCRIPTION:DEC Children (K-5TH) are welcome to join us on Sunday at 9:00 AM / 11:30 AM for in-person worship in Fellowship Hall.
URL:https://nextgen.dec4u.org/event/toddlers-sunday-worship/2024-01-14/
LOCATION:Dynamic Evangelism Church\, 19360 Colima Rd\, Rowland Heights\, CA\, 91748\, United States
CATEGORIES:Children
END:VEVENT
BEGIN:VEVENT
DTSTART;TZID=America/Los_Angeles:20240114T090000
DTEND;TZID=America/Los_Angeles:20240114T130000
DTSTAMP:20260424T190527
CREATED:20220310T005257Z
LAST-MODIFIED:20230222T233850Z
UID:10001022-1705222800-1705237200@nextgen.dec4u.org
SUMMARY:Toddlers Sunday
DESCRIPTION:Toddlers (Preschool – K) are invited to join us for worship @9:00AM or @11:30AM in classroom 304. Services are in-person only.
URL:https://nextgen.dec4u.org/event/toddler-in-person-sunday/2024-01-14/
LOCATION:Dynamic Evangelism Church\, 19360 Colima Rd\, Rowland Heights\, CA\, 91748\, United States
CATEGORIES:Toddler
END:VEVENT
BEGIN:VEVENT
DTSTART;TZID=America/Los_Angeles:20240114T113000
DTEND;TZID=America/Los_Angeles:20240114T130000
DTSTAMP:20260424T190527
CREATED:20230607T222202Z
LAST-MODIFIED:20230607T222202Z
UID:10003476-1705231800-1705237200@nextgen.dec4u.org
SUMMARY:Youth Sunday
DESCRIPTION:
URL:https://nextgen.dec4u.org/event/youth-sunday-service-2/2024-01-14/
LOCATION:Dynamic Evangelism Church\, 19360 Colima Rd\, Rowland Heights\, CA\, 91748\, United States
CATEGORIES:Youth
END:VEVENT
BEGIN:VEVENT
DTSTART;TZID=America/Los_Angeles:20240121T090000
DTEND;TZID=America/Los_Angeles:20240121T130000
DTSTAMP:20260424T190527
CREATED:20230222T231907Z
LAST-MODIFIED:20230222T234829Z
UID:10002853-1705827600-1705842000@nextgen.dec4u.org
SUMMARY:Children Sunday
DESCRIPTION:DEC Children (K-5TH) are welcome to join us on Sunday at 9:00 AM / 11:30 AM for in-person worship in Fellowship Hall.
URL:https://nextgen.dec4u.org/event/toddlers-sunday-worship/2024-01-21/
LOCATION:Dynamic Evangelism Church\, 19360 Colima Rd\, Rowland Heights\, CA\, 91748\, United States
CATEGORIES:Children
END:VEVENT
BEGIN:VEVENT
DTSTART;TZID=America/Los_Angeles:20240121T090000
DTEND;TZID=America/Los_Angeles:20240121T130000
DTSTAMP:20260424T190527
CREATED:20220310T005257Z
LAST-MODIFIED:20230222T233850Z
UID:10001023-1705827600-1705842000@nextgen.dec4u.org
SUMMARY:Toddlers Sunday
DESCRIPTION:Toddlers (Preschool – K) are invited to join us for worship @9:00AM or @11:30AM in classroom 304. Services are in-person only.
URL:https://nextgen.dec4u.org/event/toddler-in-person-sunday/2024-01-21/
LOCATION:Dynamic Evangelism Church\, 19360 Colima Rd\, Rowland Heights\, CA\, 91748\, United States
CATEGORIES:Toddler
END:VEVENT
BEGIN:VEVENT
DTSTART;TZID=America/Los_Angeles:20240121T113000
DTEND;TZID=America/Los_Angeles:20240121T130000
DTSTAMP:20260424T190527
CREATED:20230607T222202Z
LAST-MODIFIED:20230607T222202Z
UID:10003477-1705836600-1705842000@nextgen.dec4u.org
SUMMARY:Youth Sunday
DESCRIPTION:
URL:https://nextgen.dec4u.org/event/youth-sunday-service-2/2024-01-21/
LOCATION:Dynamic Evangelism Church\, 19360 Colima Rd\, Rowland Heights\, CA\, 91748\, United States
CATEGORIES:Youth
END:VEVENT
BEGIN:VEVENT
DTSTART;TZID=America/Los_Angeles:20240128T090000
DTEND;TZID=America/Los_Angeles:20240128T130000
DTSTAMP:20260424T190527
CREATED:20230222T231907Z
LAST-MODIFIED:20230222T234829Z
UID:10002854-1706432400-1706446800@nextgen.dec4u.org
SUMMARY:Children Sunday
DESCRIPTION:DEC Children (K-5TH) are welcome to join us on Sunday at 9:00 AM / 11:30 AM for in-person worship in Fellowship Hall.
URL:https://nextgen.dec4u.org/event/toddlers-sunday-worship/2024-01-28/
LOCATION:Dynamic Evangelism Church\, 19360 Colima Rd\, Rowland Heights\, CA\, 91748\, United States
CATEGORIES:Children
END:VEVENT
BEGIN:VEVENT
DTSTART;TZID=America/Los_Angeles:20240128T090000
DTEND;TZID=America/Los_Angeles:20240128T130000
DTSTAMP:20260424T190527
CREATED:20220310T005257Z
LAST-MODIFIED:20230222T233850Z
UID:10001024-1706432400-1706446800@nextgen.dec4u.org
SUMMARY:Toddlers Sunday
DESCRIPTION:Toddlers (Preschool – K) are invited to join us for worship @9:00AM or @11:30AM in classroom 304. Services are in-person only.
URL:https://nextgen.dec4u.org/event/toddler-in-person-sunday/2024-01-28/
LOCATION:Dynamic Evangelism Church\, 19360 Colima Rd\, Rowland Heights\, CA\, 91748\, United States
CATEGORIES:Toddler
END:VEVENT
BEGIN:VEVENT
DTSTART;TZID=America/Los_Angeles:20240128T113000
DTEND;TZID=America/Los_Angeles:20240128T130000
DTSTAMP:20260424T190527
CREATED:20230607T222202Z
LAST-MODIFIED:20230607T222202Z
UID:10003478-1706441400-1706446800@nextgen.dec4u.org
SUMMARY:Youth Sunday
DESCRIPTION:
URL:https://nextgen.dec4u.org/event/youth-sunday-service-2/2024-01-28/
LOCATION:Dynamic Evangelism Church\, 19360 Colima Rd\, Rowland Heights\, CA\, 91748\, United States
CATEGORIES:Youth
END:VEVENT
BEGIN:VEVENT
DTSTART;TZID=America/Los_Angeles:20240204T090000
DTEND;TZID=America/Los_Angeles:20240204T130000
DTSTAMP:20260424T190527
CREATED:20230222T231907Z
LAST-MODIFIED:20230222T234829Z
UID:10002855-1707037200-1707051600@nextgen.dec4u.org
SUMMARY:Children Sunday
DESCRIPTION:DEC Children (K-5TH) are welcome to join us on Sunday at 9:00 AM / 11:30 AM for in-person worship in Fellowship Hall.
URL:https://nextgen.dec4u.org/event/toddlers-sunday-worship/2024-02-04/
LOCATION:Dynamic Evangelism Church\, 19360 Colima Rd\, Rowland Heights\, CA\, 91748\, United States
CATEGORIES:Children
END:VEVENT
BEGIN:VEVENT
DTSTART;TZID=America/Los_Angeles:20240204T090000
DTEND;TZID=America/Los_Angeles:20240204T130000
DTSTAMP:20260424T190527
CREATED:20220310T005257Z
LAST-MODIFIED:20230222T233850Z
UID:10001025-1707037200-1707051600@nextgen.dec4u.org
SUMMARY:Toddlers Sunday
DESCRIPTION:Toddlers (Preschool – K) are invited to join us for worship @9:00AM or @11:30AM in classroom 304. Services are in-person only.
URL:https://nextgen.dec4u.org/event/toddler-in-person-sunday/2024-02-04/
LOCATION:Dynamic Evangelism Church\, 19360 Colima Rd\, Rowland Heights\, CA\, 91748\, United States
CATEGORIES:Toddler
END:VEVENT
BEGIN:VEVENT
DTSTART;TZID=America/Los_Angeles:20240204T113000
DTEND;TZID=America/Los_Angeles:20240204T130000
DTSTAMP:20260424T190527
CREATED:20230607T222202Z
LAST-MODIFIED:20230607T222202Z
UID:10003479-1707046200-1707051600@nextgen.dec4u.org
SUMMARY:Youth Sunday
DESCRIPTION:
URL:https://nextgen.dec4u.org/event/youth-sunday-service-2/2024-02-04/
LOCATION:Dynamic Evangelism Church\, 19360 Colima Rd\, Rowland Heights\, CA\, 91748\, United States
CATEGORIES:Youth
END:VEVENT
BEGIN:VEVENT
DTSTART;TZID=America/Los_Angeles:20240211T090000
DTEND;TZID=America/Los_Angeles:20240211T130000
DTSTAMP:20260424T190527
CREATED:20230222T231907Z
LAST-MODIFIED:20230222T234829Z
UID:10002856-1707642000-1707656400@nextgen.dec4u.org
SUMMARY:Children Sunday
DESCRIPTION:DEC Children (K-5TH) are welcome to join us on Sunday at 9:00 AM / 11:30 AM for in-person worship in Fellowship Hall.
URL:https://nextgen.dec4u.org/event/toddlers-sunday-worship/2024-02-11/
LOCATION:Dynamic Evangelism Church\, 19360 Colima Rd\, Rowland Heights\, CA\, 91748\, United States
CATEGORIES:Children
END:VEVENT
BEGIN:VEVENT
DTSTART;TZID=America/Los_Angeles:20240211T090000
DTEND;TZID=America/Los_Angeles:20240211T130000
DTSTAMP:20260424T190527
CREATED:20220310T005257Z
LAST-MODIFIED:20230222T233850Z
UID:10001026-1707642000-1707656400@nextgen.dec4u.org
SUMMARY:Toddlers Sunday
DESCRIPTION:Toddlers (Preschool – K) are invited to join us for worship @9:00AM or @11:30AM in classroom 304. Services are in-person only.
URL:https://nextgen.dec4u.org/event/toddler-in-person-sunday/2024-02-11/
LOCATION:Dynamic Evangelism Church\, 19360 Colima Rd\, Rowland Heights\, CA\, 91748\, United States
CATEGORIES:Toddler
END:VEVENT
BEGIN:VEVENT
DTSTART;TZID=America/Los_Angeles:20240211T113000
DTEND;TZID=America/Los_Angeles:20240211T130000
DTSTAMP:20260424T190527
CREATED:20230607T222202Z
LAST-MODIFIED:20230607T222202Z
UID:10003480-1707651000-1707656400@nextgen.dec4u.org
SUMMARY:Youth Sunday
DESCRIPTION:
URL:https://nextgen.dec4u.org/event/youth-sunday-service-2/2024-02-11/
LOCATION:Dynamic Evangelism Church\, 19360 Colima Rd\, Rowland Heights\, CA\, 91748\, United States
CATEGORIES:Youth
END:VEVENT
BEGIN:VEVENT
DTSTART;TZID=America/Los_Angeles:20240218T090000
DTEND;TZID=America/Los_Angeles:20240218T130000
DTSTAMP:20260424T190527
CREATED:20230222T231907Z
LAST-MODIFIED:20230222T234829Z
UID:10002857-1708246800-1708261200@nextgen.dec4u.org
SUMMARY:Children Sunday
DESCRIPTION:DEC Children (K-5TH) are welcome to join us on Sunday at 9:00 AM / 11:30 AM for in-person worship in Fellowship Hall.
URL:https://nextgen.dec4u.org/event/toddlers-sunday-worship/2024-02-18/
LOCATION:Dynamic Evangelism Church\, 19360 Colima Rd\, Rowland Heights\, CA\, 91748\, United States
CATEGORIES:Children
END:VEVENT
BEGIN:VEVENT
DTSTART;TZID=America/Los_Angeles:20240218T090000
DTEND;TZID=America/Los_Angeles:20240218T130000
DTSTAMP:20260424T190527
CREATED:20220310T005257Z
LAST-MODIFIED:20230222T233850Z
UID:10001027-1708246800-1708261200@nextgen.dec4u.org
SUMMARY:Toddlers Sunday
DESCRIPTION:Toddlers (Preschool – K) are invited to join us for worship @9:00AM or @11:30AM in classroom 304. Services are in-person only.
URL:https://nextgen.dec4u.org/event/toddler-in-person-sunday/2024-02-18/
LOCATION:Dynamic Evangelism Church\, 19360 Colima Rd\, Rowland Heights\, CA\, 91748\, United States
CATEGORIES:Toddler
END:VEVENT
BEGIN:VEVENT
DTSTART;TZID=America/Los_Angeles:20240218T113000
DTEND;TZID=America/Los_Angeles:20240218T130000
DTSTAMP:20260424T190527
CREATED:20230607T222202Z
LAST-MODIFIED:20230607T222202Z
UID:10003481-1708255800-1708261200@nextgen.dec4u.org
SUMMARY:Youth Sunday
DESCRIPTION:
URL:https://nextgen.dec4u.org/event/youth-sunday-service-2/2024-02-18/
LOCATION:Dynamic Evangelism Church\, 19360 Colima Rd\, Rowland Heights\, CA\, 91748\, United States
CATEGORIES:Youth
END:VEVENT
BEGIN:VEVENT
DTSTART;TZID=America/Los_Angeles:20240225T090000
DTEND;TZID=America/Los_Angeles:20240225T130000
DTSTAMP:20260424T190527
CREATED:20230222T231907Z
LAST-MODIFIED:20230222T234829Z
UID:10002858-1708851600-1708866000@nextgen.dec4u.org
SUMMARY:Children Sunday
DESCRIPTION:DEC Children (K-5TH) are welcome to join us on Sunday at 9:00 AM / 11:30 AM for in-person worship in Fellowship Hall.
URL:https://nextgen.dec4u.org/event/toddlers-sunday-worship/2024-02-25/
LOCATION:Dynamic Evangelism Church\, 19360 Colima Rd\, Rowland Heights\, CA\, 91748\, United States
CATEGORIES:Children
END:VEVENT
BEGIN:VEVENT
DTSTART;TZID=America/Los_Angeles:20240225T090000
DTEND;TZID=America/Los_Angeles:20240225T130000
DTSTAMP:20260424T190527
CREATED:20220310T005257Z
LAST-MODIFIED:20230222T233850Z
UID:10001028-1708851600-1708866000@nextgen.dec4u.org
SUMMARY:Toddlers Sunday
DESCRIPTION:Toddlers (Preschool – K) are invited to join us for worship @9:00AM or @11:30AM in classroom 304. Services are in-person only.
URL:https://nextgen.dec4u.org/event/toddler-in-person-sunday/2024-02-25/
LOCATION:Dynamic Evangelism Church\, 19360 Colima Rd\, Rowland Heights\, CA\, 91748\, United States
CATEGORIES:Toddler
END:VEVENT
BEGIN:VEVENT
DTSTART;TZID=America/Los_Angeles:20240225T113000
DTEND;TZID=America/Los_Angeles:20240225T130000
DTSTAMP:20260424T190527
CREATED:20230607T222202Z
LAST-MODIFIED:20230607T222202Z
UID:10003482-1708860600-1708866000@nextgen.dec4u.org
SUMMARY:Youth Sunday
DESCRIPTION:
URL:https://nextgen.dec4u.org/event/youth-sunday-service-2/2024-02-25/
LOCATION:Dynamic Evangelism Church\, 19360 Colima Rd\, Rowland Heights\, CA\, 91748\, United States
CATEGORIES:Youth
END:VEVENT
BEGIN:VEVENT
DTSTART;TZID=America/Los_Angeles:20240303T090000
DTEND;TZID=America/Los_Angeles:20240303T130000
DTSTAMP:20260424T190527
CREATED:20230222T231907Z
LAST-MODIFIED:20230222T234829Z
UID:10002859-1709456400-1709470800@nextgen.dec4u.org
SUMMARY:Children Sunday
DESCRIPTION:DEC Children (K-5TH) are welcome to join us on Sunday at 9:00 AM / 11:30 AM for in-person worship in Fellowship Hall.
URL:https://nextgen.dec4u.org/event/toddlers-sunday-worship/2024-03-03/
LOCATION:Dynamic Evangelism Church\, 19360 Colima Rd\, Rowland Heights\, CA\, 91748\, United States
CATEGORIES:Children
END:VEVENT
BEGIN:VEVENT
DTSTART;TZID=America/Los_Angeles:20240303T090000
DTEND;TZID=America/Los_Angeles:20240303T130000
DTSTAMP:20260424T190527
CREATED:20220310T005257Z
LAST-MODIFIED:20230222T233850Z
UID:10001029-1709456400-1709470800@nextgen.dec4u.org
SUMMARY:Toddlers Sunday
DESCRIPTION:Toddlers (Preschool – K) are invited to join us for worship @9:00AM or @11:30AM in classroom 304. Services are in-person only.
URL:https://nextgen.dec4u.org/event/toddler-in-person-sunday/2024-03-03/
LOCATION:Dynamic Evangelism Church\, 19360 Colima Rd\, Rowland Heights\, CA\, 91748\, United States
CATEGORIES:Toddler
END:VEVENT
BEGIN:VEVENT
DTSTART;TZID=America/Los_Angeles:20240303T113000
DTEND;TZID=America/Los_Angeles:20240303T130000
DTSTAMP:20260424T190527
CREATED:20230607T222202Z
LAST-MODIFIED:20230607T222202Z
UID:10003483-1709465400-1709470800@nextgen.dec4u.org
SUMMARY:Youth Sunday
DESCRIPTION:
URL:https://nextgen.dec4u.org/event/youth-sunday-service-2/2024-03-03/
LOCATION:Dynamic Evangelism Church\, 19360 Colima Rd\, Rowland Heights\, CA\, 91748\, United States
CATEGORIES:Youth
END:VEVENT
BEGIN:VEVENT
DTSTART;TZID=America/Los_Angeles:20240310T090000
DTEND;TZID=America/Los_Angeles:20240310T130000
DTSTAMP:20260424T190527
CREATED:20230222T231907Z
LAST-MODIFIED:20230222T234829Z
UID:10002860-1710061200-1710075600@nextgen.dec4u.org
SUMMARY:Children Sunday
DESCRIPTION:DEC Children (K-5TH) are welcome to join us on Sunday at 9:00 AM / 11:30 AM for in-person worship in Fellowship Hall.
URL:https://nextgen.dec4u.org/event/toddlers-sunday-worship/2024-03-10/
LOCATION:Dynamic Evangelism Church\, 19360 Colima Rd\, Rowland Heights\, CA\, 91748\, United States
CATEGORIES:Children
END:VEVENT
BEGIN:VEVENT
DTSTART;TZID=America/Los_Angeles:20240310T090000
DTEND;TZID=America/Los_Angeles:20240310T130000
DTSTAMP:20260424T190527
CREATED:20220310T005257Z
LAST-MODIFIED:20230222T233850Z
UID:10001030-1710061200-1710075600@nextgen.dec4u.org
SUMMARY:Toddlers Sunday
DESCRIPTION:Toddlers (Preschool – K) are invited to join us for worship @9:00AM or @11:30AM in classroom 304. Services are in-person only.
URL:https://nextgen.dec4u.org/event/toddler-in-person-sunday/2024-03-10/
LOCATION:Dynamic Evangelism Church\, 19360 Colima Rd\, Rowland Heights\, CA\, 91748\, United States
CATEGORIES:Toddler
END:VEVENT
BEGIN:VEVENT
DTSTART;TZID=America/Los_Angeles:20240310T113000
DTEND;TZID=America/Los_Angeles:20240310T130000
DTSTAMP:20260424T190527
CREATED:20230607T222202Z
LAST-MODIFIED:20230607T222202Z
UID:10003484-1710070200-1710075600@nextgen.dec4u.org
SUMMARY:Youth Sunday
DESCRIPTION:
URL:https://nextgen.dec4u.org/event/youth-sunday-service-2/2024-03-10/
LOCATION:Dynamic Evangelism Church\, 19360 Colima Rd\, Rowland Heights\, CA\, 91748\, United States
CATEGORIES:Youth
END:VEVENT
BEGIN:VEVENT
DTSTART;TZID=America/Los_Angeles:20240317T090000
DTEND;TZID=America/Los_Angeles:20240317T130000
DTSTAMP:20260424T190527
CREATED:20230222T231907Z
LAST-MODIFIED:20230222T234829Z
UID:10002861-1710666000-1710680400@nextgen.dec4u.org
SUMMARY:Children Sunday
DESCRIPTION:DEC Children (K-5TH) are welcome to join us on Sunday at 9:00 AM / 11:30 AM for in-person worship in Fellowship Hall.
URL:https://nextgen.dec4u.org/event/toddlers-sunday-worship/2024-03-17/
LOCATION:Dynamic Evangelism Church\, 19360 Colima Rd\, Rowland Heights\, CA\, 91748\, United States
CATEGORIES:Children
END:VEVENT
BEGIN:VEVENT
DTSTART;TZID=America/Los_Angeles:20240317T090000
DTEND;TZID=America/Los_Angeles:20240317T130000
DTSTAMP:20260424T190527
CREATED:20220310T005257Z
LAST-MODIFIED:20230222T233850Z
UID:10001031-1710666000-1710680400@nextgen.dec4u.org
SUMMARY:Toddlers Sunday
DESCRIPTION:Toddlers (Preschool – K) are invited to join us for worship @9:00AM or @11:30AM in classroom 304. Services are in-person only.
URL:https://nextgen.dec4u.org/event/toddler-in-person-sunday/2024-03-17/
LOCATION:Dynamic Evangelism Church\, 19360 Colima Rd\, Rowland Heights\, CA\, 91748\, United States
CATEGORIES:Toddler
END:VEVENT
END:VCALENDAR