BEGIN:VCALENDAR
VERSION:2.0
PRODID:-//DEC Youth Ministry - ECPv6.0.9//NONSGML v1.0//EN
CALSCALE:GREGORIAN
METHOD:PUBLISH
X-ORIGINAL-URL:https://nextgen.dec4u.org
X-WR-CALDESC:Events for DEC Youth Ministry
REFRESH-INTERVAL;VALUE=DURATION:PT1H
X-Robots-Tag:noindex
X-PUBLISHED-TTL:PT1H
BEGIN:VTIMEZONE
TZID:America/Los_Angeles
BEGIN:DAYLIGHT
TZOFFSETFROM:-0800
TZOFFSETTO:-0700
TZNAME:PDT
DTSTART:20220313T100000
END:DAYLIGHT
BEGIN:STANDARD
TZOFFSETFROM:-0700
TZOFFSETTO:-0800
TZNAME:PST
DTSTART:20221106T090000
END:STANDARD
BEGIN:DAYLIGHT
TZOFFSETFROM:-0800
TZOFFSETTO:-0700
TZNAME:PDT
DTSTART:20230312T100000
END:DAYLIGHT
BEGIN:STANDARD
TZOFFSETFROM:-0700
TZOFFSETTO:-0800
TZNAME:PST
DTSTART:20231105T090000
END:STANDARD
END:VTIMEZONE
BEGIN:VEVENT
DTSTART;TZID=America/Los_Angeles:20221225T090000
DTEND;TZID=America/Los_Angeles:20221225T130000
DTSTAMP:20260424T015153
CREATED:20230222T231907Z
LAST-MODIFIED:20230222T234829Z
UID:10002797-1671958800-1671973200@nextgen.dec4u.org
SUMMARY:Children Sunday
DESCRIPTION:DEC Children (K-5TH) are welcome to join us on Sunday at 9:00 AM / 11:30 AM for in-person worship in Fellowship Hall.
URL:https://nextgen.dec4u.org/event/toddlers-sunday-worship/2022-12-25/
LOCATION:Dynamic Evangelism Church\, 19360 Colima Rd\, Rowland Heights\, CA\, 91748\, United States
CATEGORIES:Children
END:VEVENT
BEGIN:VEVENT
DTSTART;TZID=America/Los_Angeles:20221225T090000
DTEND;TZID=America/Los_Angeles:20221225T130000
DTSTAMP:20260424T015153
CREATED:20220310T005257Z
LAST-MODIFIED:20230222T233850Z
UID:10000967-1671958800-1671973200@nextgen.dec4u.org
SUMMARY:Toddlers Sunday
DESCRIPTION:Toddlers (Preschool – K) are invited to join us for worship @9:00AM or @11:30AM in classroom 304. Services are in-person only.
URL:https://nextgen.dec4u.org/event/toddler-in-person-sunday/2022-12-25/
LOCATION:Dynamic Evangelism Church\, 19360 Colima Rd\, Rowland Heights\, CA\, 91748\, United States
CATEGORIES:Toddler
END:VEVENT
BEGIN:VEVENT
DTSTART;TZID=America/Los_Angeles:20230101T090000
DTEND;TZID=America/Los_Angeles:20230101T130000
DTSTAMP:20260424T015153
CREATED:20230222T231907Z
LAST-MODIFIED:20230222T234829Z
UID:10002798-1672563600-1672578000@nextgen.dec4u.org
SUMMARY:Children Sunday
DESCRIPTION:DEC Children (K-5TH) are welcome to join us on Sunday at 9:00 AM / 11:30 AM for in-person worship in Fellowship Hall.
URL:https://nextgen.dec4u.org/event/toddlers-sunday-worship/2023-01-01/
LOCATION:Dynamic Evangelism Church\, 19360 Colima Rd\, Rowland Heights\, CA\, 91748\, United States
CATEGORIES:Children
END:VEVENT
BEGIN:VEVENT
DTSTART;TZID=America/Los_Angeles:20230101T090000
DTEND;TZID=America/Los_Angeles:20230101T130000
DTSTAMP:20260424T015153
CREATED:20220310T005257Z
LAST-MODIFIED:20230222T233850Z
UID:10000968-1672563600-1672578000@nextgen.dec4u.org
SUMMARY:Toddlers Sunday
DESCRIPTION:Toddlers (Preschool – K) are invited to join us for worship @9:00AM or @11:30AM in classroom 304. Services are in-person only.
URL:https://nextgen.dec4u.org/event/toddler-in-person-sunday/2023-01-01/
LOCATION:Dynamic Evangelism Church\, 19360 Colima Rd\, Rowland Heights\, CA\, 91748\, United States
CATEGORIES:Toddler
END:VEVENT
BEGIN:VEVENT
DTSTART;TZID=America/Los_Angeles:20230108T090000
DTEND;TZID=America/Los_Angeles:20230108T130000
DTSTAMP:20260424T015153
CREATED:20230222T231907Z
LAST-MODIFIED:20230222T234829Z
UID:10002799-1673168400-1673182800@nextgen.dec4u.org
SUMMARY:Children Sunday
DESCRIPTION:DEC Children (K-5TH) are welcome to join us on Sunday at 9:00 AM / 11:30 AM for in-person worship in Fellowship Hall.
URL:https://nextgen.dec4u.org/event/toddlers-sunday-worship/2023-01-08/
LOCATION:Dynamic Evangelism Church\, 19360 Colima Rd\, Rowland Heights\, CA\, 91748\, United States
CATEGORIES:Children
END:VEVENT
BEGIN:VEVENT
DTSTART;TZID=America/Los_Angeles:20230108T090000
DTEND;TZID=America/Los_Angeles:20230108T130000
DTSTAMP:20260424T015153
CREATED:20220310T005257Z
LAST-MODIFIED:20230222T233850Z
UID:10000969-1673168400-1673182800@nextgen.dec4u.org
SUMMARY:Toddlers Sunday
DESCRIPTION:Toddlers (Preschool – K) are invited to join us for worship @9:00AM or @11:30AM in classroom 304. Services are in-person only.
URL:https://nextgen.dec4u.org/event/toddler-in-person-sunday/2023-01-08/
LOCATION:Dynamic Evangelism Church\, 19360 Colima Rd\, Rowland Heights\, CA\, 91748\, United States
CATEGORIES:Toddler
END:VEVENT
BEGIN:VEVENT
DTSTART;TZID=America/Los_Angeles:20230115T090000
DTEND;TZID=America/Los_Angeles:20230115T130000
DTSTAMP:20260424T015153
CREATED:20230222T231907Z
LAST-MODIFIED:20230222T234829Z
UID:10002800-1673773200-1673787600@nextgen.dec4u.org
SUMMARY:Children Sunday
DESCRIPTION:DEC Children (K-5TH) are welcome to join us on Sunday at 9:00 AM / 11:30 AM for in-person worship in Fellowship Hall.
URL:https://nextgen.dec4u.org/event/toddlers-sunday-worship/2023-01-15/
LOCATION:Dynamic Evangelism Church\, 19360 Colima Rd\, Rowland Heights\, CA\, 91748\, United States
CATEGORIES:Children
END:VEVENT
BEGIN:VEVENT
DTSTART;TZID=America/Los_Angeles:20230115T090000
DTEND;TZID=America/Los_Angeles:20230115T130000
DTSTAMP:20260424T015153
CREATED:20220310T005257Z
LAST-MODIFIED:20230222T233850Z
UID:10000970-1673773200-1673787600@nextgen.dec4u.org
SUMMARY:Toddlers Sunday
DESCRIPTION:Toddlers (Preschool – K) are invited to join us for worship @9:00AM or @11:30AM in classroom 304. Services are in-person only.
URL:https://nextgen.dec4u.org/event/toddler-in-person-sunday/2023-01-15/
LOCATION:Dynamic Evangelism Church\, 19360 Colima Rd\, Rowland Heights\, CA\, 91748\, United States
CATEGORIES:Toddler
END:VEVENT
BEGIN:VEVENT
DTSTART;TZID=America/Los_Angeles:20230122T090000
DTEND;TZID=America/Los_Angeles:20230122T130000
DTSTAMP:20260424T015153
CREATED:20230222T231907Z
LAST-MODIFIED:20230222T234829Z
UID:10002801-1674378000-1674392400@nextgen.dec4u.org
SUMMARY:Children Sunday
DESCRIPTION:DEC Children (K-5TH) are welcome to join us on Sunday at 9:00 AM / 11:30 AM for in-person worship in Fellowship Hall.
URL:https://nextgen.dec4u.org/event/toddlers-sunday-worship/2023-01-22/
LOCATION:Dynamic Evangelism Church\, 19360 Colima Rd\, Rowland Heights\, CA\, 91748\, United States
CATEGORIES:Children
END:VEVENT
BEGIN:VEVENT
DTSTART;TZID=America/Los_Angeles:20230122T090000
DTEND;TZID=America/Los_Angeles:20230122T130000
DTSTAMP:20260424T015153
CREATED:20220310T005257Z
LAST-MODIFIED:20230222T233850Z
UID:10000971-1674378000-1674392400@nextgen.dec4u.org
SUMMARY:Toddlers Sunday
DESCRIPTION:Toddlers (Preschool – K) are invited to join us for worship @9:00AM or @11:30AM in classroom 304. Services are in-person only.
URL:https://nextgen.dec4u.org/event/toddler-in-person-sunday/2023-01-22/
LOCATION:Dynamic Evangelism Church\, 19360 Colima Rd\, Rowland Heights\, CA\, 91748\, United States
CATEGORIES:Toddler
END:VEVENT
BEGIN:VEVENT
DTSTART;TZID=America/Los_Angeles:20230129T090000
DTEND;TZID=America/Los_Angeles:20230129T130000
DTSTAMP:20260424T015153
CREATED:20230222T231907Z
LAST-MODIFIED:20230222T234829Z
UID:10002802-1674982800-1674997200@nextgen.dec4u.org
SUMMARY:Children Sunday
DESCRIPTION:DEC Children (K-5TH) are welcome to join us on Sunday at 9:00 AM / 11:30 AM for in-person worship in Fellowship Hall.
URL:https://nextgen.dec4u.org/event/toddlers-sunday-worship/2023-01-29/
LOCATION:Dynamic Evangelism Church\, 19360 Colima Rd\, Rowland Heights\, CA\, 91748\, United States
CATEGORIES:Children
END:VEVENT
BEGIN:VEVENT
DTSTART;TZID=America/Los_Angeles:20230129T090000
DTEND;TZID=America/Los_Angeles:20230129T130000
DTSTAMP:20260424T015153
CREATED:20220310T005257Z
LAST-MODIFIED:20230222T233850Z
UID:10000972-1674982800-1674997200@nextgen.dec4u.org
SUMMARY:Toddlers Sunday
DESCRIPTION:Toddlers (Preschool – K) are invited to join us for worship @9:00AM or @11:30AM in classroom 304. Services are in-person only.
URL:https://nextgen.dec4u.org/event/toddler-in-person-sunday/2023-01-29/
LOCATION:Dynamic Evangelism Church\, 19360 Colima Rd\, Rowland Heights\, CA\, 91748\, United States
CATEGORIES:Toddler
END:VEVENT
BEGIN:VEVENT
DTSTART;TZID=America/Los_Angeles:20230205T090000
DTEND;TZID=America/Los_Angeles:20230205T130000
DTSTAMP:20260424T015153
CREATED:20230222T231907Z
LAST-MODIFIED:20230222T234829Z
UID:10002803-1675587600-1675602000@nextgen.dec4u.org
SUMMARY:Children Sunday
DESCRIPTION:DEC Children (K-5TH) are welcome to join us on Sunday at 9:00 AM / 11:30 AM for in-person worship in Fellowship Hall.
URL:https://nextgen.dec4u.org/event/toddlers-sunday-worship/2023-02-05/
LOCATION:Dynamic Evangelism Church\, 19360 Colima Rd\, Rowland Heights\, CA\, 91748\, United States
CATEGORIES:Children
END:VEVENT
BEGIN:VEVENT
DTSTART;TZID=America/Los_Angeles:20230205T090000
DTEND;TZID=America/Los_Angeles:20230205T130000
DTSTAMP:20260424T015153
CREATED:20220310T005257Z
LAST-MODIFIED:20230222T233850Z
UID:10000973-1675587600-1675602000@nextgen.dec4u.org
SUMMARY:Toddlers Sunday
DESCRIPTION:Toddlers (Preschool – K) are invited to join us for worship @9:00AM or @11:30AM in classroom 304. Services are in-person only.
URL:https://nextgen.dec4u.org/event/toddler-in-person-sunday/2023-02-05/
LOCATION:Dynamic Evangelism Church\, 19360 Colima Rd\, Rowland Heights\, CA\, 91748\, United States
CATEGORIES:Toddler
END:VEVENT
BEGIN:VEVENT
DTSTART;TZID=America/Los_Angeles:20230212T090000
DTEND;TZID=America/Los_Angeles:20230212T130000
DTSTAMP:20260424T015153
CREATED:20230222T231907Z
LAST-MODIFIED:20230222T234829Z
UID:10002804-1676192400-1676206800@nextgen.dec4u.org
SUMMARY:Children Sunday
DESCRIPTION:DEC Children (K-5TH) are welcome to join us on Sunday at 9:00 AM / 11:30 AM for in-person worship in Fellowship Hall.
URL:https://nextgen.dec4u.org/event/toddlers-sunday-worship/2023-02-12/
LOCATION:Dynamic Evangelism Church\, 19360 Colima Rd\, Rowland Heights\, CA\, 91748\, United States
CATEGORIES:Children
END:VEVENT
BEGIN:VEVENT
DTSTART;TZID=America/Los_Angeles:20230212T090000
DTEND;TZID=America/Los_Angeles:20230212T130000
DTSTAMP:20260424T015153
CREATED:20220310T005257Z
LAST-MODIFIED:20230222T233850Z
UID:10000974-1676192400-1676206800@nextgen.dec4u.org
SUMMARY:Toddlers Sunday
DESCRIPTION:Toddlers (Preschool – K) are invited to join us for worship @9:00AM or @11:30AM in classroom 304. Services are in-person only.
URL:https://nextgen.dec4u.org/event/toddler-in-person-sunday/2023-02-12/
LOCATION:Dynamic Evangelism Church\, 19360 Colima Rd\, Rowland Heights\, CA\, 91748\, United States
CATEGORIES:Toddler
END:VEVENT
BEGIN:VEVENT
DTSTART;TZID=America/Los_Angeles:20230219T090000
DTEND;TZID=America/Los_Angeles:20230219T130000
DTSTAMP:20260424T015153
CREATED:20230222T231907Z
LAST-MODIFIED:20230222T234829Z
UID:10002805-1676797200-1676811600@nextgen.dec4u.org
SUMMARY:Children Sunday
DESCRIPTION:DEC Children (K-5TH) are welcome to join us on Sunday at 9:00 AM / 11:30 AM for in-person worship in Fellowship Hall.
URL:https://nextgen.dec4u.org/event/toddlers-sunday-worship/2023-02-19/
LOCATION:Dynamic Evangelism Church\, 19360 Colima Rd\, Rowland Heights\, CA\, 91748\, United States
CATEGORIES:Children
END:VEVENT
BEGIN:VEVENT
DTSTART;TZID=America/Los_Angeles:20230219T090000
DTEND;TZID=America/Los_Angeles:20230219T130000
DTSTAMP:20260424T015153
CREATED:20220310T005257Z
LAST-MODIFIED:20230222T233850Z
UID:10000975-1676797200-1676811600@nextgen.dec4u.org
SUMMARY:Toddlers Sunday
DESCRIPTION:Toddlers (Preschool – K) are invited to join us for worship @9:00AM or @11:30AM in classroom 304. Services are in-person only.
URL:https://nextgen.dec4u.org/event/toddler-in-person-sunday/2023-02-19/
LOCATION:Dynamic Evangelism Church\, 19360 Colima Rd\, Rowland Heights\, CA\, 91748\, United States
CATEGORIES:Toddler
END:VEVENT
BEGIN:VEVENT
DTSTART;TZID=America/Los_Angeles:20230226T090000
DTEND;TZID=America/Los_Angeles:20230226T130000
DTSTAMP:20260424T015153
CREATED:20230222T231907Z
LAST-MODIFIED:20230222T234829Z
UID:10002806-1677402000-1677416400@nextgen.dec4u.org
SUMMARY:Children Sunday
DESCRIPTION:DEC Children (K-5TH) are welcome to join us on Sunday at 9:00 AM / 11:30 AM for in-person worship in Fellowship Hall.
URL:https://nextgen.dec4u.org/event/toddlers-sunday-worship/2023-02-26/
LOCATION:Dynamic Evangelism Church\, 19360 Colima Rd\, Rowland Heights\, CA\, 91748\, United States
CATEGORIES:Children
END:VEVENT
BEGIN:VEVENT
DTSTART;TZID=America/Los_Angeles:20230226T090000
DTEND;TZID=America/Los_Angeles:20230226T130000
DTSTAMP:20260424T015153
CREATED:20220310T005257Z
LAST-MODIFIED:20230222T233850Z
UID:10000976-1677402000-1677416400@nextgen.dec4u.org
SUMMARY:Toddlers Sunday
DESCRIPTION:Toddlers (Preschool – K) are invited to join us for worship @9:00AM or @11:30AM in classroom 304. Services are in-person only.
URL:https://nextgen.dec4u.org/event/toddler-in-person-sunday/2023-02-26/
LOCATION:Dynamic Evangelism Church\, 19360 Colima Rd\, Rowland Heights\, CA\, 91748\, United States
CATEGORIES:Toddler
END:VEVENT
BEGIN:VEVENT
DTSTART;TZID=America/Los_Angeles:20230305T090000
DTEND;TZID=America/Los_Angeles:20230305T130000
DTSTAMP:20260424T015153
CREATED:20230222T231907Z
LAST-MODIFIED:20230222T234829Z
UID:10002807-1678006800-1678021200@nextgen.dec4u.org
SUMMARY:Children Sunday
DESCRIPTION:DEC Children (K-5TH) are welcome to join us on Sunday at 9:00 AM / 11:30 AM for in-person worship in Fellowship Hall.
URL:https://nextgen.dec4u.org/event/toddlers-sunday-worship/2023-03-05/
LOCATION:Dynamic Evangelism Church\, 19360 Colima Rd\, Rowland Heights\, CA\, 91748\, United States
CATEGORIES:Children
END:VEVENT
BEGIN:VEVENT
DTSTART;TZID=America/Los_Angeles:20230305T090000
DTEND;TZID=America/Los_Angeles:20230305T130000
DTSTAMP:20260424T015153
CREATED:20220310T005257Z
LAST-MODIFIED:20230222T233850Z
UID:10000977-1678006800-1678021200@nextgen.dec4u.org
SUMMARY:Toddlers Sunday
DESCRIPTION:Toddlers (Preschool – K) are invited to join us for worship @9:00AM or @11:30AM in classroom 304. Services are in-person only.
URL:https://nextgen.dec4u.org/event/toddler-in-person-sunday/2023-03-05/
LOCATION:Dynamic Evangelism Church\, 19360 Colima Rd\, Rowland Heights\, CA\, 91748\, United States
CATEGORIES:Toddler
END:VEVENT
BEGIN:VEVENT
DTSTART;TZID=America/Los_Angeles:20230312T090000
DTEND;TZID=America/Los_Angeles:20230312T130000
DTSTAMP:20260424T015153
CREATED:20230222T231907Z
LAST-MODIFIED:20230222T234829Z
UID:10002808-1678611600-1678626000@nextgen.dec4u.org
SUMMARY:Children Sunday
DESCRIPTION:DEC Children (K-5TH) are welcome to join us on Sunday at 9:00 AM / 11:30 AM for in-person worship in Fellowship Hall.
URL:https://nextgen.dec4u.org/event/toddlers-sunday-worship/2023-03-12/
LOCATION:Dynamic Evangelism Church\, 19360 Colima Rd\, Rowland Heights\, CA\, 91748\, United States
CATEGORIES:Children
END:VEVENT
BEGIN:VEVENT
DTSTART;TZID=America/Los_Angeles:20230312T090000
DTEND;TZID=America/Los_Angeles:20230312T130000
DTSTAMP:20260424T015153
CREATED:20220310T005257Z
LAST-MODIFIED:20230222T233850Z
UID:10000978-1678611600-1678626000@nextgen.dec4u.org
SUMMARY:Toddlers Sunday
DESCRIPTION:Toddlers (Preschool – K) are invited to join us for worship @9:00AM or @11:30AM in classroom 304. Services are in-person only.
URL:https://nextgen.dec4u.org/event/toddler-in-person-sunday/2023-03-12/
LOCATION:Dynamic Evangelism Church\, 19360 Colima Rd\, Rowland Heights\, CA\, 91748\, United States
CATEGORIES:Toddler
END:VEVENT
BEGIN:VEVENT
DTSTART;TZID=America/Los_Angeles:20230319T090000
DTEND;TZID=America/Los_Angeles:20230319T130000
DTSTAMP:20260424T015153
CREATED:20230222T231907Z
LAST-MODIFIED:20230222T234829Z
UID:10002809-1679216400-1679230800@nextgen.dec4u.org
SUMMARY:Children Sunday
DESCRIPTION:DEC Children (K-5TH) are welcome to join us on Sunday at 9:00 AM / 11:30 AM for in-person worship in Fellowship Hall.
URL:https://nextgen.dec4u.org/event/toddlers-sunday-worship/2023-03-19/
LOCATION:Dynamic Evangelism Church\, 19360 Colima Rd\, Rowland Heights\, CA\, 91748\, United States
CATEGORIES:Children
END:VEVENT
BEGIN:VEVENT
DTSTART;TZID=America/Los_Angeles:20230319T090000
DTEND;TZID=America/Los_Angeles:20230319T130000
DTSTAMP:20260424T015153
CREATED:20220310T005257Z
LAST-MODIFIED:20230222T233850Z
UID:10000979-1679216400-1679230800@nextgen.dec4u.org
SUMMARY:Toddlers Sunday
DESCRIPTION:Toddlers (Preschool – K) are invited to join us for worship @9:00AM or @11:30AM in classroom 304. Services are in-person only.
URL:https://nextgen.dec4u.org/event/toddler-in-person-sunday/2023-03-19/
LOCATION:Dynamic Evangelism Church\, 19360 Colima Rd\, Rowland Heights\, CA\, 91748\, United States
CATEGORIES:Toddler
END:VEVENT
BEGIN:VEVENT
DTSTART;TZID=America/Los_Angeles:20230326T090000
DTEND;TZID=America/Los_Angeles:20230326T130000
DTSTAMP:20260424T015153
CREATED:20230222T231907Z
LAST-MODIFIED:20230222T234829Z
UID:10002810-1679821200-1679835600@nextgen.dec4u.org
SUMMARY:Children Sunday
DESCRIPTION:DEC Children (K-5TH) are welcome to join us on Sunday at 9:00 AM / 11:30 AM for in-person worship in Fellowship Hall.
URL:https://nextgen.dec4u.org/event/toddlers-sunday-worship/2023-03-26/
LOCATION:Dynamic Evangelism Church\, 19360 Colima Rd\, Rowland Heights\, CA\, 91748\, United States
CATEGORIES:Children
END:VEVENT
BEGIN:VEVENT
DTSTART;TZID=America/Los_Angeles:20230326T090000
DTEND;TZID=America/Los_Angeles:20230326T130000
DTSTAMP:20260424T015153
CREATED:20220310T005257Z
LAST-MODIFIED:20230222T233850Z
UID:10000980-1679821200-1679835600@nextgen.dec4u.org
SUMMARY:Toddlers Sunday
DESCRIPTION:Toddlers (Preschool – K) are invited to join us for worship @9:00AM or @11:30AM in classroom 304. Services are in-person only.
URL:https://nextgen.dec4u.org/event/toddler-in-person-sunday/2023-03-26/
LOCATION:Dynamic Evangelism Church\, 19360 Colima Rd\, Rowland Heights\, CA\, 91748\, United States
CATEGORIES:Toddler
END:VEVENT
BEGIN:VEVENT
DTSTART;TZID=America/Los_Angeles:20230402T090000
DTEND;TZID=America/Los_Angeles:20230402T130000
DTSTAMP:20260424T015153
CREATED:20230222T231907Z
LAST-MODIFIED:20230222T234829Z
UID:10002811-1680426000-1680440400@nextgen.dec4u.org
SUMMARY:Children Sunday
DESCRIPTION:DEC Children (K-5TH) are welcome to join us on Sunday at 9:00 AM / 11:30 AM for in-person worship in Fellowship Hall.
URL:https://nextgen.dec4u.org/event/toddlers-sunday-worship/2023-04-02/
LOCATION:Dynamic Evangelism Church\, 19360 Colima Rd\, Rowland Heights\, CA\, 91748\, United States
CATEGORIES:Children
END:VEVENT
BEGIN:VEVENT
DTSTART;TZID=America/Los_Angeles:20230402T090000
DTEND;TZID=America/Los_Angeles:20230402T130000
DTSTAMP:20260424T015153
CREATED:20220310T005257Z
LAST-MODIFIED:20230222T233850Z
UID:10000981-1680426000-1680440400@nextgen.dec4u.org
SUMMARY:Toddlers Sunday
DESCRIPTION:Toddlers (Preschool – K) are invited to join us for worship @9:00AM or @11:30AM in classroom 304. Services are in-person only.
URL:https://nextgen.dec4u.org/event/toddler-in-person-sunday/2023-04-02/
LOCATION:Dynamic Evangelism Church\, 19360 Colima Rd\, Rowland Heights\, CA\, 91748\, United States
CATEGORIES:Toddler
END:VEVENT
END:VCALENDAR